BEGIN:VCALENDAR
VERSION:2.0
PRODID:-//ChamberMaster//Event Calendar 2.0//EN
METHOD:PUBLISH
X-PUBLISHED-TTL:P3D
REFRESH-INTERVAL:P3D
CALSCALE:GREGORIAN
BEGIN:VEVENT
DTSTART:20261204T000000Z
DTEND:20261204T010000Z
X-MICROSOFT-CDO-ALLDAYEVENT:FALSE
SUMMARY:11th Annual Standstill Parade of Lights 2026
DESCRIPTION:The 11th Annual Standstill Parade of Lights will be held in Historic Downtown Vermillion on Thursday\, December 3 at 6 p.m. to officially kick off the holiday season.\n\nYou won't want to miss seeing Santa Claus as he officially lights the Vermillion Christmas Tree. Come check out the floats designed by businesses and organizations from the Vermillion Area\, see live music\, and enjoy hot drinks and treats.\n\n\n\nFollowing the tree lighting\, Santa will be available for pictures at the Library don't forget to bring your camera!\n\n\n\nThank you to our sponsors!
X-ALT-DESC;FMTTYPE=text/html:<div class="kvgmc6g5 cxmmr5t8 oygrvhab hcukyx3x c1et5uql" style="overflow-wrap: break-word\; margin: 0px\; font-family: &quot\;Segoe UI Historic&quot\;\, &quot\;Segoe UI&quot\;\, Helvetica\, Arial\, sans-serif\; color: rgb(5\, 5\, 5)\; font-size: 15px\;"><span style="font-size:14px\;"><span style="font-family:tahoma\;">The 11th&nbsp\;Annual Standstill Parade of Lights will be held in Historic Downtown Vermillion on Thursday\, December 3&nbsp\;at 6&nbsp\;p.m. to officially kick off the holiday season.</span></span></div>\n\n<div class="o9v6fnle cxmmr5t8 oygrvhab hcukyx3x c1et5uql" style="overflow-wrap: break-word\; margin: 0.5em 0px 0px\; font-family: &quot\;Segoe UI Historic&quot\;\, &quot\;Segoe UI&quot\;\, Helvetica\, Arial\, sans-serif\; color: rgb(5\, 5\, 5)\; font-size: 15px\;"><span style="font-size:14px\;"><span style="font-family:tahoma\;">You won&#39\;t want to miss seeing Santa Claus as he officially lights the Vermillion Christmas Tree. Come check out the floats&nbsp\;designed by businesses and organizations from the Vermillion Area\, see live music\, and enjoy hot drinks and treats.<br />\n<br />\nFollowing the tree lighting\, Santa&nbsp\;will be available for pictures at the Library&mdash\;don&#39\;t forget to bring your camera!</span></span><br />\n<br />\n<font color="#050505" face="tahoma"><span style="font-size: 14px\;"><strong>Thank you to our sponsors!</strong></span></font><br />\n<br />\n&nbsp\;</div>\n
LOCATION:Historic Downtown Vermillion Main Street
UID:e.2277.28570
SEQUENCE:3
DTSTAMP:20260423T085810Z
URL:https://chamber.livevermillion.com/events/details/11th-annual-standstill-parade-of-lights-2026-28570
END:VEVENT

END:VCALENDAR
