BEGIN:VCALENDAR
VERSION:2.0
PRODID:-//ChamberMaster//Event Calendar 2.0//EN
METHOD:PUBLISH
X-PUBLISHED-TTL:P3D
REFRESH-INTERVAL:P3D
CALSCALE:GREGORIAN
BEGIN:VEVENT
DTSTART:20220612T220000Z
DTEND:20220613T023000Z
X-MICROSOFT-CDO-ALLDAYEVENT:FALSE
SUMMARY:6th Annual River Honoring
DESCRIPTION:The River Honoring is a free community potluck/music festival. This family friendly event is held annually at Clay County Park along the wild and scenic Missouri National Recreational River\, just west of Vermillion. Bring a chair\, a picnic\, and get ready to enjoy live music and Native American perspective about the Missouri River.
X-ALT-DESC;FMTTYPE=text/html:The River Honoring is a free community potluck/music festival. This family friendly event is held annually at Clay County Park along the wild and scenic Missouri National Recreational River\, just west of Vermillion. Bring a chair\, a picnic\, and get ready to enjoy live music and Native American perspective about the Missouri River.&nbsp\;
LOCATION:Clay County Park Picnic Shelter
UID:e.2277.24348
SEQUENCE:3
DTSTAMP:20260424T222611Z
URL:https://chamber.livevermillion.com/events/details/6th-annual-river-honoring-24348
END:VEVENT

END:VCALENDAR
