BEGIN:VCALENDAR
VERSION:2.0
PRODID:-//ChamberMaster//Event Calendar 2.0//EN
METHOD:PUBLISH
X-PUBLISHED-TTL:P3D
REFRESH-INTERVAL:P3D
CALSCALE:GREGORIAN
BEGIN:VEVENT
DTSTART;VALUE=DATE:20220726
DTEND;VALUE=DATE:20220727
TRANSP:TRANSPARENT
X-MICROSOFT-CDO-ALLDAYEVENT:TRUE
SUMMARY:All-American Blood Drive
DESCRIPTION:Sanford Vermillion All-American Blood Drive
X-ALT-DESC;FMTTYPE=text/html:Sanford Vermillion All-American Blood Drive&nbsp\;
LOCATION:Sanford Vermillion Medical Center 20 S Plum Str. Vermillion\, SD
UID:e.2277.24522
SEQUENCE:3
DTSTAMP:20260424T224248Z
URL:https://chamber.livevermillion.com/events/details/all-american-blood-drive-24522
END:VEVENT

END:VCALENDAR
