BEGIN:VCALENDAR
VERSION:2.0
PRODID:-//ChamberMaster//Event Calendar 2.0//EN
METHOD:PUBLISH
X-PUBLISHED-TTL:P3D
REFRESH-INTERVAL:P3D
CALSCALE:GREGORIAN
BEGIN:VEVENT
DTSTART:20230703T190000Z
DTEND:20230703T200000Z
X-MICROSOFT-CDO-ALLDAYEVENT:FALSE
SUMMARY:American Legion Flag Folding Independence Day Program
DESCRIPTION:The American Legion will be hosting a flag folding activity with attendees. All community members welcome!
X-ALT-DESC;FMTTYPE=text/html:<span style="color: rgb(24\, 28\, 50)\; font-family: Inter\, Helvetica\, sans-serif\; font-size: 13.975px\;">The American Legion will be hosting a flag folding activity with attendees. All community members welcome!</span>
LOCATION:Edith B. Siegrist Vermillion Public Library
UID:e.2277.25902
SEQUENCE:3
DTSTAMP:20260425T230941Z
URL:https://chamber.livevermillion.com/events/details/american-legion-flag-folding-independence-day-program-25902
END:VEVENT

END:VCALENDAR
