BEGIN:VCALENDAR
VERSION:2.0
PRODID:-//ChamberMaster//Event Calendar 2.0//EN
METHOD:PUBLISH
X-PUBLISHED-TTL:P3D
REFRESH-INTERVAL:P3D
CALSCALE:GREGORIAN
BEGIN:VEVENT
DTSTART:20230412T220000Z
DTEND:20230413T000000Z
X-MICROSOFT-CDO-ALLDAYEVENT:FALSE
SUMMARY:An Evening For Women
DESCRIPTION:Join Sanford Health and the Dakota Hospital Foundation for a very special evening for women. Enjoy hors d'oeuvres\, refreshments\, and a presentation by Dawn Marie Johnson on the power of mentorship.
X-ALT-DESC;FMTTYPE=text/html:<span style="color:#000000\;"><span style="font-size:20px\;"><span style="font-family:times new roman\;">Join Sanford Health and the Dakota Hospital Foundation for a very special evening for women. Enjoy hors d&#39\;oeuvres\, refreshments\, and a presentation by Dawn Marie Johnson on the power of mentorship.</span></span></span>
LOCATION:Dakota Center Banquet Room 912 N. Dakota St.\, Vermillion\, SD
UID:e.2277.25481
SEQUENCE:3
DTSTAMP:20260425T154010Z
URL:https://chamber.livevermillion.com/events/details/an-evening-for-women-25481
END:VEVENT

END:VCALENDAR
