BEGIN:VCALENDAR
VERSION:2.0
PRODID:-//ChamberMaster//Event Calendar 2.0//EN
METHOD:PUBLISH
X-PUBLISHED-TTL:P3D
REFRESH-INTERVAL:P3D
CALSCALE:GREGORIAN
BEGIN:VEVENT
DTSTART:20221024T163000Z
DTEND:20221024T183000Z
X-MICROSOFT-CDO-ALLDAYEVENT:FALSE
SUMMARY:Annual Fran Moore Luncheon
DESCRIPTION:The Annual Fran Moore Luncheon is back after the COVID hiatus! \n\n\n\nThe loaded potato bar will be held from 11:30 am to 1:30 pm at the Eagles Club in downtown Vermillion on Monday\, October 24th\, 2022\, sponsored by Juno Chapter\, Order of the Eastern Star. \n\n\n\nTo help kick your experience up a notch\, music will be provided by Elaine Peacock and Isabel Trobaugh.
X-ALT-DESC;FMTTYPE=text/html:The Annual Fran Moore Luncheon is back after the COVID hiatus!&nbsp\;<br />\n<br />\nThe loaded potato bar will be held from 11:30 am to 1:30 pm at the Eagles Club in downtown Vermillion on Monday\, October 24th\, 2022\, sponsored by Juno Chapter\, Order of the Eastern Star.&nbsp\;<br />\n<br />\nTo help kick your experience up a notch\, music will be provided by Elaine Peacock and Isabel Trobaugh.&nbsp\;
LOCATION:Eagles Club Vermillion\, SD
UID:e.2277.24606
SEQUENCE:3
DTSTAMP:20260425T040755Z
URL:https://chamber.livevermillion.com/events/details/annual-fran-moore-luncheon-24606
END:VEVENT

END:VCALENDAR
