BEGIN:VCALENDAR
VERSION:2.0
PRODID:-//ChamberMaster//Event Calendar 2.0//EN
METHOD:PUBLISH
X-PUBLISHED-TTL:P3D
REFRESH-INTERVAL:P3D
CALSCALE:GREGORIAN
BEGIN:VEVENT
DTSTART:20221006T203000Z
DTEND:20221006T223000Z
X-MICROSOFT-CDO-ALLDAYEVENT:FALSE
SUMMARY:Banner Associates Ribbon Cutting
DESCRIPTION:Join us to celebrate the new Banner Associates office location in Vermillion! Our first office opened 75 years ago\, and for more than 40 years we have proudly provided professional engineering\, surveying\, and environmental services in and around Vermillion. After decades of working together\, we opened our first Vermillion office location in 2010. Now\, we are excited to grow our presence in a city many of us have come to know as home as we officially cut the ribbon for our new Vermillion office. Come see the new location\, meet the team\, and enjoy some snacks and beverages to help us kick off the next phase of Engineering a Better Community. See you there!
X-ALT-DESC;FMTTYPE=text/html:Join us to celebrate the new Banner Associates office location in Vermillion! Our first office opened 75 years ago\, and for more than 40 years we have proudly provided professional engineering\, surveying\, and environmental services in and around Vermillion. After decades of working together\, we opened our first Vermillion office location in 2010. Now\, we are excited to grow our presence in a city many of us have come to know as home as we officially cut the ribbon for our new Vermillion office. Come see the new location\, meet the team\, and enjoy some snacks and beverages to help us kick off the next phase of Engineering a Better Community. See you there!&nbsp\;
LOCATION:Banner Associates\, 10 Austin Street\, Suit 101\, Vermillion\, SD 57069
UID:e.2277.24585
SEQUENCE:3
DTSTAMP:20260425T040958Z
URL:https://chamber.livevermillion.com/events/details/banner-associates-ribbon-cutting-24585
END:VEVENT

END:VCALENDAR
