BEGIN:VCALENDAR
VERSION:2.0
PRODID:-//ChamberMaster//Event Calendar 2.0//EN
METHOD:PUBLISH
X-PUBLISHED-TTL:P3D
REFRESH-INTERVAL:P3D
CALSCALE:GREGORIAN
BEGIN:VEVENT
DTSTART:20260530T233000Z
DTEND:20260531T020000Z
X-MICROSOFT-CDO-ALLDAYEVENT:FALSE
SUMMARY:BENEFIT FOR BRIXZ
DESCRIPTION:Community\, food\, beer\, good vibes\, and live music featuring:\n\nBrixz\n\nZach Holoch\n\nPaul Ebsen\n\nGunnar Malek-Madani\n\nCarrie Malek-Madani and friends\n\n\n\n$20 at the door. All proceeds to support Brixz in their medical journey.
X-ALT-DESC;FMTTYPE=text/html:Community\, food\, beer\, good vibes\, and live music featuring:<br />\nBrixz<br />\nZach Holoch<br />\nPaul Ebsen<br />\nGunnar Malek-Madani<br />\nCarrie Malek-Madani and friends<br />\n<br />\n$20 at the door. All proceeds to support Brixz in their medical journey.&nbsp\;
LOCATION:Xix Brewing Co | 113 W Main St\, Vermillion\, SD 57069
UID:e.2277.29670
SEQUENCE:3
DTSTAMP:20260420T211707Z
URL:https://chamber.livevermillion.com/events/details/benefit-for-brixz-29670
END:VEVENT

END:VCALENDAR
