BEGIN:VCALENDAR
VERSION:2.0
PRODID:-//ChamberMaster//Event Calendar 2.0//EN
METHOD:PUBLISH
X-PUBLISHED-TTL:P3D
REFRESH-INTERVAL:P3D
CALSCALE:GREGORIAN
BEGIN:VEVENT
DTSTART:20250325T220000Z
DTEND:20250326T000000Z
X-MICROSOFT-CDO-ALLDAYEVENT:FALSE
SUMMARY:Bigs & Littles Date Night
DESCRIPTION:Bigs & Littles Date Night! Looking for a fun night out with your Little? Join us at Cee Cee's for our new monthly Bigs & Littles Date Night! Enjoy games\, sip on our LOW ABV & NO ABV themed drinks\, and make lasting memories together. This is a great chance to connect with other parents\, grandparents\, and guardians while your Little makes new friends\, too! All ages welcome! Don't miss out on the fun!
X-ALT-DESC;FMTTYPE=text/html:Bigs &amp\; Littles Date Night! Looking for a fun night out with your Little? Join us at Cee Cee&rsquo\;s for our new monthly Bigs &amp\; Littles Date Night! Enjoy games\, sip on our LOW ABV &amp\; NO ABV themed drinks\, and make lasting memories together. This is a great chance to connect with other parents\, grandparents\, and guardians while your Little makes new friends\, too! All ages welcome! Don&rsquo\;t miss out on the fun!
LOCATION:Cee Cee's Scratch Kitchen & Bar.
UID:e.2277.27886
SEQUENCE:3
DTSTAMP:20260426T025841Z
URL:https://chamber.livevermillion.com/events/details/bigs-littles-date-night-27886
END:VEVENT

END:VCALENDAR
