BEGIN:VCALENDAR
VERSION:2.0
PRODID:-//ChamberMaster//Event Calendar 2.0//EN
METHOD:PUBLISH
X-PUBLISHED-TTL:P3D
REFRESH-INTERVAL:P3D
CALSCALE:GREGORIAN
BEGIN:VEVENT
DTSTART:20230617T160000Z
DTEND:20230617T190000Z
X-MICROSOFT-CDO-ALLDAYEVENT:FALSE
SUMMARY:Bloody Mary Saturdays
DESCRIPTION:Bloody Mary Saturday specials at Valiant Vineyards!
X-ALT-DESC;FMTTYPE=text/html:Bloody Mary Saturday specials at Valiant Vineyards!
LOCATION:Valiant Vineyards\, 1500 W. Main St.\, Vermillion SD
UID:e.2277.25593
SEQUENCE:3
DTSTAMP:20260425T211857Z
URL:https://chamber.livevermillion.com/events/details/bloody-mary-saturdays-06-17-2023-25593
END:VEVENT

END:VCALENDAR
