BEGIN:VCALENDAR
VERSION:2.0
PRODID:-//ChamberMaster//Event Calendar 2.0//EN
METHOD:PUBLISH
X-PUBLISHED-TTL:P3D
REFRESH-INTERVAL:P3D
CALSCALE:GREGORIAN
BEGIN:VEVENT
DTSTART:20250716T210000Z
DTEND:20250716T230000Z
X-MICROSOFT-CDO-ALLDAYEVENT:FALSE
SUMMARY:Blue Tin Ranch Ribbon Cutting
DESCRIPTION:Join the VCDC in congratulating Blue Tin Ranch on their expansion! After damage to their pavilion from a snow storm\, they made the decision to rebuild\, creating the perfect venue space. With space for celebrations such as weddings\, reunions\, and parties\, stop by to tour the space and enjoy refreshments!
X-ALT-DESC;FMTTYPE=text/html:<span style="font-size: 14px\;">Join the VCDC in congratulating Blue Tin Ranch on their expansion! After damage to their pavilion from a snow storm\, they made the decision to rebuild\, creating the perfect venue space. With space for celebrations such as weddings\, reunions\, and parties\, stop by to tour the space and enjoy refreshments!</span><br />\n&nbsp\;
LOCATION:47033 Burbank Rd\, Burbank SD
UID:e.2277.28052
SEQUENCE:3
DTSTAMP:20260425T125229Z
URL:https://chamber.livevermillion.com/events/details/blue-tin-ranch-ribbon-cutting-28052
END:VEVENT

END:VCALENDAR
