BEGIN:VCALENDAR
VERSION:2.0
PRODID:-//ChamberMaster//Event Calendar 2.0//EN
METHOD:PUBLISH
X-PUBLISHED-TTL:P3D
REFRESH-INTERVAL:P3D
CALSCALE:GREGORIAN
BEGIN:VEVENT
DTSTART:20230617T233000Z
DTEND:20230618T030000Z
X-MICROSOFT-CDO-ALLDAYEVENT:FALSE
SUMMARY:Bourbon\, Beer\, and Barbecue!
DESCRIPTION:Bourbon\, Beer\, & Barbecue!\n\nJune 17th at Valiant Vineyards Winery & Distillery\n\n6:30 PM to 10:00 PM\n\n \n\nImmerse yourself in a delightful fusion of flavors\, live music\, and exclusive experiences. This is an event you will want to attend!\n\n \n\nTaste over fifty bourbons\, ryes\, craft beers\, and select rums. Savor some mouthwatering barbecue delights. Our carefully curated menu includes the following:\n\n\n	Brisket\n	Baby Back Ribs\n	Pulled Pork\n	Hot Links\n	Baked Beans\n	Cole Slaw\n	Potato Salad\n	Corn Bread\n\n\n \n\nPrepare to be amazed as celebrity nationally known mixologist Austin Foster crafts a brand-new cocktail creation exclusively for each guest. This unique concoction will perfectly complement your evening of indulgence.\n\n \n\nAdding to the excitement\, Mike Hyatt from Beaumont\, Texas\, will be flying in to conduct a special Podcast from the event\, capturing the vibrant atmosphere and sharing the enthusiasm of the evening with the world.\n\n \n\nFor cigar aficionados\, our smoking deck offers a treat like no other. Enjoy a selection of Eldon's private stock cigars\, perfectly paired with your favorite beverage\, while relishing the picturesque surroundings.\n\n \n\nReservations are required for this exclusive event to ensure an intimate and memorable experience. Stay tuned for more information on how to reserve your spot.\n\n \n\nMark your calendar and prepare for an extraordinary bourbon\, beer & barbecue evening at Valiant Vineyards Winery & Distillery. Save the date June 17th it's an event you won't want to miss!
X-ALT-DESC;FMTTYPE=text/html:<p align="center" style="margin: 0px\; padding: 0px\; color: rgb(54\, 73\, 95)\; font-family: &quot\;Century Gothic&quot\;\, Calibri\, Helvetica\, Arial\, sans-serif\; font-size: 18px\; text-align: center\;"><span style="font-size: 28px\; color: rgb(66\, 66\, 66)\; font-weight: bold\;">Bourbon\, Beer\, &amp\; Barbecue!</span></p>\n\n<p align="center" style="margin: 0px\; padding: 0px\; color: rgb(54\, 73\, 95)\; font-family: &quot\;Century Gothic&quot\;\, Calibri\, Helvetica\, Arial\, sans-serif\; font-size: 18px\; text-align: center\;"><span style="font-size: 20px\; color: rgb(66\, 66\, 66)\;">June 17th at Valiant Vineyards Winery &amp\; Distillery</span></p>\n\n<p align="center" style="margin: 0px\; padding: 0px\; color: rgb(54\, 73\, 95)\; font-family: &quot\;Century Gothic&quot\;\, Calibri\, Helvetica\, Arial\, sans-serif\; font-size: 18px\; text-align: center\;"><span style="font-size: 20px\; color: rgb(66\, 66\, 66)\;">6:30 PM to 10:00 PM</span></p>\n\n<p style="margin: 0px\; padding: 0px\; color: rgb(54\, 73\, 95)\; font-family: &quot\;Century Gothic&quot\;\, Calibri\, Helvetica\, Arial\, sans-serif\; font-size: 18px\;"><span style="font-size: 20px\; color: rgb(66\, 66\, 66)\;">&nbsp\;</span></p>\n\n<p style="margin: 0px\; padding: 0px\; color: rgb(54\, 73\, 95)\; font-family: &quot\;Century Gothic&quot\;\, Calibri\, Helvetica\, Arial\, sans-serif\; font-size: 18px\;"><span style="font-size: 16px\; color: rgb(66\, 66\, 66)\;">Immerse yourself in a delightful fusion of flavors\, live music\, and exclusive experiences. This is an event you will want to attend!</span></p>\n\n<p style="margin: 0px\; padding: 0px\; color: rgb(54\, 73\, 95)\; font-family: &quot\;Century Gothic&quot\;\, Calibri\, Helvetica\, Arial\, sans-serif\; font-size: 18px\;"><span style="font-size: 16px\; color: rgb(66\, 66\, 66)\;">&nbsp\;</span></p>\n\n<p style="margin: 0px\; padding: 0px\; color: rgb(54\, 73\, 95)\; font-family: &quot\;Century Gothic&quot\;\, Calibri\, Helvetica\, Arial\, sans-serif\; font-size: 18px\;"><span style="font-size: 16px\; color: rgb(66\, 66\, 66)\;">Taste over fifty bourbons\, ryes\, craft beers\, and select rums.&nbsp\;Savor some mouthwatering barbecue delights. Our carefully curated menu includes the following:</span></p>\n\n<ul style="padding-right: 0px\; padding-left: 0px\; margin: 0px 0px 0px 40px\; color: rgb(54\, 73\, 95)\; font-family: &quot\;Century Gothic&quot\;\, Calibri\, Helvetica\, Arial\, sans-serif\; font-size: 18px\;">\n	<li style="padding: 0px\; margin: 0px\; font-size: 16px\; color: rgb(66\, 66\, 66)\;">Brisket</li>\n	<li style="padding: 0px\; margin: 0px\; font-size: 16px\; color: rgb(66\, 66\, 66)\;">Baby Back Ribs</li>\n	<li style="padding: 0px\; margin: 0px\; font-size: 16px\; color: rgb(66\, 66\, 66)\;">Pulled Pork</li>\n	<li style="padding: 0px\; margin: 0px\; font-size: 16px\; color: rgb(66\, 66\, 66)\;">Hot Links</li>\n	<li style="padding: 0px\; margin: 0px\; font-size: 16px\; color: rgb(66\, 66\, 66)\;">Baked Beans</li>\n	<li style="padding: 0px\; margin: 0px\; font-size: 16px\; color: rgb(66\, 66\, 66)\;">Cole Slaw</li>\n	<li style="padding: 0px\; margin: 0px\; font-size: 16px\; color: rgb(66\, 66\, 66)\;">Potato Salad</li>\n	<li style="padding: 0px\; margin: 0px\; font-size: 16px\; color: rgb(66\, 66\, 66)\;">Corn Bread</li>\n</ul>\n\n<p style="margin: 0px\; padding: 0px\; color: rgb(54\, 73\, 95)\; font-family: &quot\;Century Gothic&quot\;\, Calibri\, Helvetica\, Arial\, sans-serif\; font-size: 18px\;">&nbsp\;</p>\n\n<p style="margin: 0px\; padding: 0px\; color: rgb(54\, 73\, 95)\; font-family: &quot\;Century Gothic&quot\;\, Calibri\, Helvetica\, Arial\, sans-serif\; font-size: 18px\;"><span style="font-size: 16px\; color: rgb(66\, 66\, 66)\;">Prepare to be amazed as celebrity nationally known mixologist&nbsp\;</span><a href="https://valiantvineyards.us21.list-manage.com/track/click?u=b8ceeae30d01efc23353fa0ae&amp\;id=f0711375d0&amp\;e=4a1b91e075" style="font-size: 16px\; color: rgb(66\, 66\, 66)\;" target="_blank">Austin Foster</a><span style="font-size: 16px\; color: rgb(66\, 66\, 66)\;">&nbsp\;crafts a brand-new cocktail creation exclusively for each guest. This unique concoction will perfectly complement your evening of indulgence.</span></p>\n\n<p style="margin: 0px\; padding: 0px\; color: rgb(54\, 73\, 95)\; font-family: &quot\;Century Gothic&quot\;\, Calibri\, Helvetica\, Arial\, sans-serif\; font-size: 18px\;">&nbsp\;</p>\n\n<p style="margin: 0px\; padding: 0px\; color: rgb(54\, 73\, 95)\; font-family: &quot\;Century Gothic&quot\;\, Calibri\, Helvetica\, Arial\, sans-serif\; font-size: 18px\;"><span style="font-size: 16px\; color: rgb(66\, 66\, 66)\;">Adding to the excitement\, Mike Hyatt from Beaumont\, Texas\, will be flying in to conduct a special Podcast from the event\, capturing the vibrant atmosphere and sharing the enthusiasm of the evening with the world.</span></p>\n\n<p style="margin: 0px\; padding: 0px\; color: rgb(54\, 73\, 95)\; font-family: &quot\;Century Gothic&quot\;\, Calibri\, Helvetica\, Arial\, sans-serif\; font-size: 18px\;"><span style="font-size: 16px\; color: rgb(66\, 66\, 66)\;">&nbsp\;</span></p>\n\n<p style="margin: 0px\; padding: 0px\; color: rgb(54\, 73\, 95)\; font-family: &quot\;Century Gothic&quot\;\, Calibri\, Helvetica\, Arial\, sans-serif\; font-size: 18px\;"><span style="font-size: 16px\; color: rgb(66\, 66\, 66)\;">For cigar aficionados\, our smoking deck offers a treat like no other. Enjoy a selection of Eldon&#39\;s private stock cigars\, perfectly paired with your favorite beverage\, while relishing the picturesque surroundings.</span></p>\n\n<p style="margin: 0px\; padding: 0px\; color: rgb(54\, 73\, 95)\; font-family: &quot\;Century Gothic&quot\;\, Calibri\, Helvetica\, Arial\, sans-serif\; font-size: 18px\;"><span style="font-size: 16px\; color: rgb(66\, 66\, 66)\;">&nbsp\;</span></p>\n\n<p style="margin: 0px\; padding: 0px\; color: rgb(54\, 73\, 95)\; font-family: &quot\;Century Gothic&quot\;\, Calibri\, Helvetica\, Arial\, sans-serif\; font-size: 18px\;"><span style="font-size: 16px\; color: rgb(66\, 66\, 66)\;">Reservations are required for this exclusive event to ensure an intimate and memorable experience. Stay tuned for more information on how to reserve your spot.</span></p>\n\n<p style="margin: 0px\; padding: 0px\; color: rgb(54\, 73\, 95)\; font-family: &quot\;Century Gothic&quot\;\, Calibri\, Helvetica\, Arial\, sans-serif\; font-size: 18px\;"><span style="font-size: 16px\; color: rgb(66\, 66\, 66)\;">&nbsp\;</span></p>\n\n<p style="margin: 0px\; padding: 0px\; color: rgb(54\, 73\, 95)\; font-family: &quot\;Century Gothic&quot\;\, Calibri\, Helvetica\, Arial\, sans-serif\; font-size: 18px\;"><span style="font-size: 16px\; color: rgb(66\, 66\, 66)\;">Mark your calendar and prepare for an extraordinary bourbon\, beer &amp\; barbecue evening at Valiant Vineyards Winery &amp\; Distillery.&nbsp\;Save the date&mdash\;June 17th&mdash\;it&#39\;s an event you won&#39\;t want to miss!</span></p>\n
LOCATION:Valiant Vineyards Winery 1500 W. Main Street Vermillion\, SD
UID:e.2277.25590
SEQUENCE:3
DTSTAMP:20260425T192641Z
URL:https://chamber.livevermillion.com/events/details/bourbon-beer-and-barbecue-25590
END:VEVENT

END:VCALENDAR
