BEGIN:VCALENDAR
VERSION:2.0
PRODID:-//ChamberMaster//Event Calendar 2.0//EN
METHOD:PUBLISH
X-PUBLISHED-TTL:P3D
REFRESH-INTERVAL:P3D
CALSCALE:GREGORIAN
BEGIN:VEVENT
DTSTART:20241204T230000Z
DTEND:20241205T003000Z
X-MICROSOFT-CDO-ALLDAYEVENT:FALSE
SUMMARY:Boys & Girls Club Ribbon Cutting
DESCRIPTION:Join the VCDC in celebrating a ribbon cutting ceremony for the Boys & Girls Club. Enjoy refreshments and an open house of their new location.
X-ALT-DESC;FMTTYPE=text/html:Join the VCDC in celebrating a ribbon cutting ceremony for the Boys &amp\; Girls Club. Enjoy refreshments and an open house of their new location.
LOCATION:Boys & Girls Club 300 High St.
UID:e.2277.27557
SEQUENCE:3
DTSTAMP:20260426T014856Z
URL:https://chamber.livevermillion.com/events/details/boys-girls-club-ribbon-cutting-27557
END:VEVENT

END:VCALENDAR
