BEGIN:VCALENDAR
VERSION:2.0
PRODID:-//ChamberMaster//Event Calendar 2.0//EN
METHOD:PUBLISH
X-PUBLISHED-TTL:P3D
REFRESH-INTERVAL:P3D
CALSCALE:GREGORIAN
BEGIN:VEVENT
DTSTART:20230219T170000Z
DTEND:20230219T200000Z
X-MICROSOFT-CDO-ALLDAYEVENT:FALSE
SUMMARY:Brunch @ Valiant Vineyards Winery
DESCRIPTION:For the month of February\, Valiant Vineyards Winery will be featuring Italian beef sandwiches\, topped with pepperoncinis and served with a dipping sauce!\n\nThe soup is the delicious Toscana\, a creamy potato soup with sausage & kale!\n\nThey will also serve their monster meat n' cheese Bloody Mary\, as well as their charcuterie board.
X-ALT-DESC;FMTTYPE=text/html:<span style="font-size:16px\;"><span style="font-family:times new roman\;"><span style="font-size:20px\;">For the month of February\, Valiant Vineyards Winery will be featuring Italian beef sandwiches\, topped with pepperoncinis and served with a dipping sauce!<br />\nThe soup is the delicious Toscana\, a creamy potato soup with sausage &amp\; kale!<br />\nThey will also serve their monster meat n&#39\; cheese Bloody Mary\, as well as their charcuterie board.</span>&nbsp\;</span></span><br />\n&nbsp\;
LOCATION:Valiant Vineyards Winery
UID:e.2277.25401
SEQUENCE:3
DTSTAMP:20260425T120632Z
URL:https://chamber.livevermillion.com/events/details/brunch-valiant-vineyards-winery-02-19-2023-25401
END:VEVENT

END:VCALENDAR
