BEGIN:VCALENDAR
VERSION:2.0
PRODID:-//ChamberMaster//Event Calendar 2.0//EN
METHOD:PUBLISH
X-PUBLISHED-TTL:P3D
REFRESH-INTERVAL:P3D
CALSCALE:GREGORIAN
BEGIN:VEVENT
DTSTART:20230414T220000Z
DTEND:20230415T030000Z
X-MICROSOFT-CDO-ALLDAYEVENT:FALSE
SUMMARY:Calling All Coyotes
DESCRIPTION:Join us for the 2023 Calling All Coyotes - A Red Tie Event to support the University of South Dakota and its student-athletes. The evening will include a delicious meal\, an impressive list of auction items and time to connect with fellow Coyotes. Reserve your table or seat today by emailing Hillary at hillary.sosinski@usdfoundation.org.\n\nThe online auction will be live beginning on Friday\, April 7.\n\n\n\nPresented by CorTrust Bank.
X-ALT-DESC;FMTTYPE=text/html:<p style="box-sizing: border-box\; font-family: open-sans\, sans-serif\; font-size: 18px\;"><span style="color:#000000\;"><span style="font-size:20px\;"><span style="font-family:times new roman\;">Join us for the 2023 Calling All Coyotes - A Red Tie Event to support the University of South Dakota and its student-athletes. The evening will include a delicious meal\, an impressive list of auction items and time to connect with fellow Coyotes. Reserve your table or seat today by emailing Hillary at hillary.sosinski@usdfoundation.org.</span></span></span></p>\n\n<p style="box-sizing: border-box\; font-family: open-sans\, sans-serif\; font-size: 18px\;"><span style="color:#000000\;"><span style="font-size:20px\;"><span style="font-family:times new roman\;">The online auction will be live beginning on Friday\, April 7.<br />\n<br />\nPresented by CorTrust Bank.</span></span></span></p>\n
LOCATION:Sioux Falls Convention Center Sioux Falls\, SD
UID:e.2277.24810
SEQUENCE:3
DTSTAMP:20260425T155152Z
URL:https://chamber.livevermillion.com/events/details/calling-all-coyotes-24810
END:VEVENT

END:VCALENDAR
