BEGIN:VCALENDAR
VERSION:2.0
PRODID:-//ChamberMaster//Event Calendar 2.0//EN
METHOD:PUBLISH
X-PUBLISHED-TTL:P3D
REFRESH-INTERVAL:P3D
CALSCALE:GREGORIAN
BEGIN:VEVENT
DTSTART:20261204T230000Z
DTEND:20261205T020000Z
X-MICROSOFT-CDO-ALLDAYEVENT:FALSE
SUMMARY:CCHS Holiday Tour of Homes
DESCRIPTION:The Clay County Historical Society invites you to celebrate the season at the annual Tour of Homes. This festive\, self-guided tour in Vermillion\, South Dakota\, features several unique\, local homes beautifully decorated for the holiday season. This event serves as a major fundraiser for the historical society to preserve Clay County history and maintain the Austin Whittemore House Museum\, as well as it's many exhibits\, archives and other treasures.
X-ALT-DESC;FMTTYPE=text/html:The Clay County Historical Society invites you to celebrate the season at the annual Tour of Homes. This festive\, self-guided tour in Vermillion\, South Dakota\, features several unique\, local homes beautifully decorated for the holiday season. This event serves as a major fundraiser for the historical society to preserve Clay County history and maintain the Austin Whittemore House Museum\, as well as it&#39\;s many exhibits\, archives and other treasures.
LOCATION:TBD
UID:e.2277.29546
SEQUENCE:3
DTSTAMP:20260423T141638Z
URL:https://chamber.livevermillion.com/events/details/cchs-holiday-tour-of-homes-29546
END:VEVENT

END:VCALENDAR
