BEGIN:VCALENDAR
VERSION:2.0
PRODID:-//ChamberMaster//Event Calendar 2.0//EN
METHOD:PUBLISH
X-PUBLISHED-TTL:P3D
REFRESH-INTERVAL:P3D
CALSCALE:GREGORIAN
BEGIN:VEVENT
DTSTART:20220812T140000Z
DTEND:20220813T040000Z
X-MICROSOFT-CDO-ALLDAYEVENT:FALSE
SUMMARY:Clay County Fair
DESCRIPTION:9-9 pm      Exhibit Building Opens\n\n9:30 am    4-H Sheep/Goat Show \n\n11 am        Storytime with Vermillion Public Library (Tent)\n\n11-6 pm    Ag Safety/Education Day Events\n\n 11-6 pm    Clay Union Electric Demonstrations and Customer Appreciation\n\n11-6 pm    Sioux Falls VA Health Care System\n\n11-1 pm    Elaine Peacock \n\n12-10 pm  Inflatables\n\n1 pm         4-H Poultry Show \n\n1-8 pm      Vendor Booths Open \n\n1-8 pm      Robotics Challenge by Robotics of Vermillion (Clover Hall)  \n\n1-8 pm      Scout Me In Challenge by Scouts BSA (Clover Hall)\n\n3-1 am      Beer Garden Tent  \n\n3-6 pm      USD Herpetology\n\n4-7 pm      Bluff Ridge \n\n4-8 pm      Chainsaw Carving (Auction Saturday at 5 pm)\n\n4:30-6 pm Local Fare at the Fair hosted by Farmers Market (Clover Hall)\n\n4:30 pm    Barnyard Olympics Sign up\n\n5 pm         Ice Cream Social \n\n5:30 pm    Arena Beer Garden Opens\n\n5:30 pm    Barnyard Olympics\n\n6-6:30 pm ATV Mud Drags Registration \n\n7 pm          ATV Mud Drags (Open Arena)\n\n9 pm-1      Street Dance featuring The BS Band
X-ALT-DESC;FMTTYPE=text/html:<p style="box-sizing: inherit\; margin: 0px\; color: rgb(94\, 94\, 94)\; font-family: Lora\, serif\; font-size: 21px\;"><span class="x-el x-el-span c1-70 c1-71 c1-b c1-c c1-d c1-e c1-f c1-g" style="box-sizing: inherit\; letter-spacing: unset\; text-transform: unset\;"><span class="x-el x-el-span c1-24 c1-25 c1-b c1-9b c1-2h c1-4q c1-9c" style="box-sizing: inherit\; letter-spacing: inherit\; text-transform: inherit\; color: inherit\; font-weight: 700\; line-height: inherit\; font-size: inherit !important\;">9-9 pm &nbsp\;&nbsp\;&nbsp\;&nbsp\;&nbsp\;</span>Exhibit Building Opens</span></p>\n\n<p style="box-sizing: inherit\; margin: 0px\; color: rgb(94\, 94\, 94)\; font-family: Lora\, serif\; font-size: 21px\;"><span class="x-el x-el-span c1-70 c1-71 c1-b c1-c c1-d c1-e c1-f c1-g" style="box-sizing: inherit\; letter-spacing: unset\; text-transform: unset\;"><span class="x-el x-el-span c1-24 c1-25 c1-b c1-9b c1-2h c1-4q c1-9c" style="box-sizing: inherit\; letter-spacing: inherit\; text-transform: inherit\; color: inherit\; font-weight: 700\; line-height: inherit\; font-size: inherit !important\;">9:30 am &nbsp\;&nbsp\;&nbsp\;</span>4-H Sheep/Goat Show&nbsp\;</span></p>\n\n<p style="box-sizing: inherit\; margin: 0px\; color: rgb(94\, 94\, 94)\; font-family: Lora\, serif\; font-size: 21px\;"><span class="x-el x-el-span c1-70 c1-71 c1-b c1-c c1-d c1-e c1-f c1-g" style="box-sizing: inherit\; letter-spacing: unset\; text-transform: unset\;"><span class="x-el x-el-span c1-24 c1-25 c1-b c1-9b c1-2h c1-4q c1-9c" style="box-sizing: inherit\; letter-spacing: inherit\; text-transform: inherit\; color: inherit\; font-weight: 700\; line-height: inherit\; font-size: inherit !important\;">11 am &nbsp\;&nbsp\;&nbsp\;&nbsp\;&nbsp\;&nbsp\;&nbsp\;</span>Storytime with Vermillion Public Library (Tent)</span></p>\n\n<p style="box-sizing: inherit\; margin: 0px\; color: rgb(94\, 94\, 94)\; font-family: Lora\, serif\; font-size: 21px\;"><span class="x-el x-el-span c1-70 c1-71 c1-b c1-c c1-d c1-e c1-f c1-g" style="box-sizing: inherit\; letter-spacing: unset\; text-transform: unset\;"><span class="x-el x-el-span c1-24 c1-25 c1-b c1-9b c1-2h c1-4q c1-9c" style="box-sizing: inherit\; letter-spacing: inherit\; text-transform: inherit\; color: inherit\; font-weight: 700\; line-height: inherit\; font-size: inherit !important\;">11-6 pm</span>&nbsp\;&nbsp\;&nbsp\;&nbsp\;Ag Safety/Education Day Events</span></p>\n\n<p style="box-sizing: inherit\; margin: 0px\; color: rgb(94\, 94\, 94)\; font-family: Lora\, serif\; font-size: 21px\;"><span class="x-el x-el-span c1-70 c1-71 c1-b c1-c c1-d c1-e c1-f c1-g" style="box-sizing: inherit\; letter-spacing: unset\; text-transform: unset\;"><span class="x-el x-el-span c1-24 c1-25 c1-b c1-9b c1-2h c1-4q c1-9c" style="box-sizing: inherit\; letter-spacing: inherit\; text-transform: inherit\; color: inherit\; font-weight: 700\; line-height: inherit\; font-size: inherit !important\;">&#8203\;11-6 pm &nbsp\;&nbsp\;&nbsp\;</span>Clay Union Electric Demonstrations and Customer Appreciation</span></p>\n\n<p style="box-sizing: inherit\; margin: 0px\; color: rgb(94\, 94\, 94)\; font-family: Lora\, serif\; font-size: 21px\;"><span class="x-el x-el-span c1-70 c1-71 c1-b c1-c c1-d c1-e c1-f c1-g" style="box-sizing: inherit\; letter-spacing: unset\; text-transform: unset\;"><span class="x-el x-el-span c1-24 c1-25 c1-b c1-9b c1-2h c1-4q c1-9c" style="box-sizing: inherit\; letter-spacing: inherit\; text-transform: inherit\; color: inherit\; font-weight: 700\; line-height: inherit\; font-size: inherit !important\;">11-6 pm</span>&nbsp\;&nbsp\;&nbsp\;&nbsp\;Sioux Falls VA Health Care System</span></p>\n\n<p style="box-sizing: inherit\; margin: 0px\; color: rgb(94\, 94\, 94)\; font-family: Lora\, serif\; font-size: 21px\;"><span class="x-el x-el-span c1-70 c1-71 c1-b c1-c c1-d c1-e c1-f c1-g" style="box-sizing: inherit\; letter-spacing: unset\; text-transform: unset\;"><span class="x-el x-el-span c1-24 c1-25 c1-b c1-9b c1-2h c1-4q c1-9c" style="box-sizing: inherit\; letter-spacing: inherit\; text-transform: inherit\; color: inherit\; font-weight: 700\; line-height: inherit\; font-size: inherit !important\;">11-1 pm</span>&nbsp\;&nbsp\;&nbsp\;&nbsp\;Elaine Peacock&nbsp\;</span></p>\n\n<p style="box-sizing: inherit\; margin: 0px\; color: rgb(94\, 94\, 94)\; font-family: Lora\, serif\; font-size: 21px\;"><span class="x-el x-el-span c1-70 c1-71 c1-b c1-c c1-d c1-e c1-f c1-g" style="box-sizing: inherit\; letter-spacing: unset\; text-transform: unset\;"><span class="x-el x-el-span c1-24 c1-25 c1-b c1-9b c1-2h c1-4q c1-9c" style="box-sizing: inherit\; letter-spacing: inherit\; text-transform: inherit\; color: inherit\; font-weight: 700\; line-height: inherit\; font-size: inherit !important\;">12-10 pm &nbsp\;</span>Inflatables<br style="box-sizing: inherit\; clear: both\;" />\n<span class="x-el x-el-span c1-24 c1-25 c1-b c1-9b c1-2h c1-4q c1-9c" style="box-sizing: inherit\; letter-spacing: inherit\; text-transform: inherit\; color: inherit\; font-weight: 700\; line-height: inherit\; font-size: inherit !important\;">1 pm &nbsp\;&nbsp\;&nbsp\;&nbsp\;&nbsp\;&nbsp\;&nbsp\;&nbsp\;</span>4-H Poultry Show&nbsp\;</span></p>\n\n<p style="box-sizing: inherit\; margin: 0px\; color: rgb(94\, 94\, 94)\; font-family: Lora\, serif\; font-size: 21px\;"><span class="x-el x-el-span c1-70 c1-71 c1-b c1-c c1-d c1-e c1-f c1-g" style="box-sizing: inherit\; letter-spacing: unset\; text-transform: unset\;"><span class="x-el x-el-span c1-24 c1-25 c1-b c1-9b c1-2h c1-4q c1-9c" style="box-sizing: inherit\; letter-spacing: inherit\; text-transform: inherit\; color: inherit\; font-weight: 700\; line-height: inherit\; font-size: inherit !important\;">1-8 pm &nbsp\;&nbsp\;&nbsp\;&nbsp\;&nbsp\;</span>Vendor Booths Open&nbsp\;</span></p>\n\n<p style="box-sizing: inherit\; margin: 0px\; color: rgb(94\, 94\, 94)\; font-family: Lora\, serif\; font-size: 21px\;"><span class="x-el x-el-span c1-70 c1-71 c1-b c1-c c1-d c1-e c1-f c1-g" style="box-sizing: inherit\; letter-spacing: unset\; text-transform: unset\;"><span class="x-el x-el-span c1-24 c1-25 c1-b c1-9b c1-2h c1-4q c1-9c" style="box-sizing: inherit\; letter-spacing: inherit\; text-transform: inherit\; color: inherit\; font-weight: 700\; line-height: inherit\; font-size: inherit !important\;">1-8 pm</span>&nbsp\;&nbsp\;&nbsp\;&nbsp\;&nbsp\;&nbsp\;Robotics Challenge by Robotics of Vermillion (Clover Hall) &nbsp\;</span></p>\n\n<p style="box-sizing: inherit\; margin: 0px\; color: rgb(94\, 94\, 94)\; font-family: Lora\, serif\; font-size: 21px\;"><span class="x-el x-el-span c1-70 c1-71 c1-b c1-c c1-d c1-e c1-f c1-g" style="box-sizing: inherit\; letter-spacing: unset\; text-transform: unset\;"><span class="x-el x-el-span c1-24 c1-25 c1-b c1-9b c1-2h c1-4q c1-9c" style="box-sizing: inherit\; letter-spacing: inherit\; text-transform: inherit\; color: inherit\; font-weight: 700\; line-height: inherit\; font-size: inherit !important\;">1-8 pm</span>&nbsp\;&nbsp\;&nbsp\;&nbsp\;&nbsp\;&nbsp\;Scout Me In Challenge by Scouts BSA (Clover Hall)</span></p>\n\n<p style="box-sizing: inherit\; margin: 0px\; color: rgb(94\, 94\, 94)\; font-family: Lora\, serif\; font-size: 21px\;"><span class="x-el x-el-span c1-70 c1-71 c1-b c1-c c1-d c1-e c1-f c1-g" style="box-sizing: inherit\; letter-spacing: unset\; text-transform: unset\;"><span class="x-el x-el-span c1-24 c1-25 c1-b c1-9b c1-2h c1-4q c1-9c" style="box-sizing: inherit\; letter-spacing: inherit\; text-transform: inherit\; color: inherit\; font-weight: 700\; line-height: inherit\; font-size: inherit !important\;">3-1 am &nbsp\;&nbsp\;&nbsp\;&nbsp\;&nbsp\;</span>Beer Garden Tent<span class="x-el x-el-span c1-24 c1-25 c1-b c1-9b c1-2h c1-4q c1-9c" style="box-sizing: inherit\; letter-spacing: inherit\; text-transform: inherit\; color: inherit\; font-weight: 700\; line-height: inherit\; font-size: inherit !important\;">&#8203\;&#8203\;</span></span></p>\n\n<p style="box-sizing: inherit\; margin: 0px\; color: rgb(94\, 94\, 94)\; font-family: Lora\, serif\; font-size: 21px\;"><span class="x-el x-el-span c1-70 c1-71 c1-b c1-c c1-d c1-e c1-f c1-g" style="box-sizing: inherit\; letter-spacing: unset\; text-transform: unset\;"><span class="x-el x-el-span c1-24 c1-25 c1-b c1-9b c1-2h c1-4q c1-9c" style="box-sizing: inherit\; letter-spacing: inherit\; text-transform: inherit\; color: inherit\; font-weight: 700\; line-height: inherit\; font-size: inherit !important\;">3-6 pm</span>&nbsp\;&nbsp\;&nbsp\;&nbsp\;&nbsp\;&nbsp\;USD Herpetology</span></p>\n\n<p style="box-sizing: inherit\; margin: 0px\; color: rgb(94\, 94\, 94)\; font-family: Lora\, serif\; font-size: 21px\;"><span class="x-el x-el-span c1-70 c1-71 c1-b c1-c c1-d c1-e c1-f c1-g" style="box-sizing: inherit\; letter-spacing: unset\; text-transform: unset\;"><span class="x-el x-el-span c1-24 c1-25 c1-b c1-9b c1-2h c1-4q c1-9c" style="box-sizing: inherit\; letter-spacing: inherit\; text-transform: inherit\; color: inherit\; font-weight: 700\; line-height: inherit\; font-size: inherit !important\;">4-7 pm &nbsp\;&nbsp\;&nbsp\;&nbsp\;&nbsp\;</span>Bluff Ridge&nbsp\;</span></p>\n\n<p style="box-sizing: inherit\; margin: 0px\; color: rgb(94\, 94\, 94)\; font-family: Lora\, serif\; font-size: 21px\;"><span class="x-el x-el-span c1-70 c1-71 c1-b c1-c c1-d c1-e c1-f c1-g" style="box-sizing: inherit\; letter-spacing: unset\; text-transform: unset\;"><span class="x-el x-el-span c1-24 c1-25 c1-b c1-9b c1-2h c1-4q c1-9c" style="box-sizing: inherit\; letter-spacing: inherit\; text-transform: inherit\; color: inherit\; font-weight: 700\; line-height: inherit\; font-size: inherit !important\;">4-8 pm &nbsp\;&nbsp\;&nbsp\;&nbsp\;&nbsp\;</span>Chainsaw Carving (Auction Saturday at 5 pm)</span></p>\n\n<p style="box-sizing: inherit\; margin: 0px\; color: rgb(94\, 94\, 94)\; font-family: Lora\, serif\; font-size: 21px\;"><span class="x-el x-el-span c1-70 c1-71 c1-b c1-c c1-d c1-e c1-f c1-g" style="box-sizing: inherit\; letter-spacing: unset\; text-transform: unset\;"><span class="x-el x-el-span c1-24 c1-25 c1-b c1-9b c1-2h c1-4q c1-9c" style="box-sizing: inherit\; letter-spacing: inherit\; text-transform: inherit\; color: inherit\; font-weight: 700\; line-height: inherit\; font-size: inherit !important\;">4:30-6 pm</span>&nbsp\;Local Fare at the Fair hosted by Farmers Market (Clover Hall)</span></p>\n\n<p style="box-sizing: inherit\; margin: 0px\; color: rgb(94\, 94\, 94)\; font-family: Lora\, serif\; font-size: 21px\;"><span class="x-el x-el-span c1-70 c1-71 c1-b c1-c c1-d c1-e c1-f c1-g" style="box-sizing: inherit\; letter-spacing: unset\; text-transform: unset\;"><span class="x-el x-el-span c1-24 c1-25 c1-b c1-9b c1-2h c1-4q c1-9c" style="box-sizing: inherit\; letter-spacing: inherit\; text-transform: inherit\; color: inherit\; font-weight: 700\; line-height: inherit\; font-size: inherit !important\;">4:30 pm &nbsp\;&nbsp\;&nbsp\;</span>Barnyard Olympics Sign up</span></p>\n\n<p style="box-sizing: inherit\; margin: 0px\; color: rgb(94\, 94\, 94)\; font-family: Lora\, serif\; font-size: 21px\;"><span class="x-el x-el-span c1-70 c1-71 c1-b c1-c c1-d c1-e c1-f c1-g" style="box-sizing: inherit\; letter-spacing: unset\; text-transform: unset\;"><span class="x-el x-el-span c1-24 c1-25 c1-b c1-9b c1-2h c1-4q c1-9c" style="box-sizing: inherit\; letter-spacing: inherit\; text-transform: inherit\; color: inherit\; font-weight: 700\; line-height: inherit\; font-size: inherit !important\;">5 pm &nbsp\;&nbsp\;&nbsp\;&nbsp\;&nbsp\;&nbsp\;&nbsp\;&nbsp\;</span>Ice Cream Social&nbsp\;</span></p>\n\n<p style="box-sizing: inherit\; margin: 0px\; color: rgb(94\, 94\, 94)\; font-family: Lora\, serif\; font-size: 21px\;"><span class="x-el x-el-span c1-70 c1-71 c1-b c1-c c1-d c1-e c1-f c1-g" style="box-sizing: inherit\; letter-spacing: unset\; text-transform: unset\;"><span class="x-el x-el-span c1-24 c1-25 c1-b c1-9b c1-2h c1-4q c1-9c" style="box-sizing: inherit\; letter-spacing: inherit\; text-transform: inherit\; color: inherit\; font-weight: 700\; line-height: inherit\; font-size: inherit !important\;">5:30 pm &nbsp\;&nbsp\;&nbsp\;</span>Arena Beer Garden Opens</span></p>\n\n<p style="box-sizing: inherit\; margin: 0px\; color: rgb(94\, 94\, 94)\; font-family: Lora\, serif\; font-size: 21px\;"><span class="x-el x-el-span c1-70 c1-71 c1-b c1-c c1-d c1-e c1-f c1-g" style="box-sizing: inherit\; letter-spacing: unset\; text-transform: unset\;"><span class="x-el x-el-span c1-24 c1-25 c1-b c1-9b c1-2h c1-4q c1-9c" style="box-sizing: inherit\; letter-spacing: inherit\; text-transform: inherit\; color: inherit\; font-weight: 700\; line-height: inherit\; font-size: inherit !important\;">5:30 pm &nbsp\;&nbsp\;&nbsp\;</span><a class="x-el x-el-a c1-24 c1-25 c1-9f c1-1k c1-1l c1-30 c1-27 c1-6x c1-b c1-9i c1-2e c1-9j c1-9k" data-page="6b116d9c-efd2-44a1-bcce-45c758388932" href="https://claycountyfair.net/barnyard-olympics" rel="" style="box-sizing: inherit\; background-color: transparent\; color: rgb(58\, 133\, 56)\; overflow-wrap: break-word\; letter-spacing: inherit\; text-transform: inherit\; cursor: pointer\; font-weight: inherit\; display: inline\; font-size: unset\;">Barnyard Olympics</a></span></p>\n\n<p style="box-sizing: inherit\; margin: 0px\; color: rgb(94\, 94\, 94)\; font-family: Lora\, serif\; font-size: 21px\;"><span class="x-el x-el-span c1-70 c1-71 c1-b c1-c c1-d c1-e c1-f c1-g" style="box-sizing: inherit\; letter-spacing: unset\; text-transform: unset\;"><span class="x-el x-el-span c1-24 c1-25 c1-b c1-9b c1-2h c1-4q c1-9c" style="box-sizing: inherit\; letter-spacing: inherit\; text-transform: inherit\; color: inherit\; font-weight: 700\; line-height: inherit\; font-size: inherit !important\;">6-6:30 pm</span>&nbsp\;ATV Mud Drags Registration&nbsp\;</span></p>\n\n<p style="box-sizing: inherit\; margin: 0px\; color: rgb(94\, 94\, 94)\; font-family: Lora\, serif\; font-size: 21px\;"><span class="x-el x-el-span c1-70 c1-71 c1-b c1-c c1-d c1-e c1-f c1-g" style="box-sizing: inherit\; letter-spacing: unset\; text-transform: unset\;"><span class="x-el x-el-span c1-24 c1-25 c1-b c1-9b c1-2h c1-4q c1-9c" style="box-sizing: inherit\; letter-spacing: inherit\; text-transform: inherit\; color: inherit\; font-weight: 700\; line-height: inherit\; font-size: inherit !important\;">7 pm &nbsp\;</span>&nbsp\;&nbsp\;&nbsp\;&nbsp\;&nbsp\;&nbsp\;&nbsp\;&nbsp\;<a class="x-el x-el-a c1-24 c1-25 c1-9f c1-1k c1-1l c1-30 c1-27 c1-6x c1-b c1-9i c1-2e c1-9j c1-9k" data-page="f674ea2c-2a85-4880-9a58-77ffe7ed5af5" href="https://claycountyfair.net/atv-mud-drags" rel="" style="box-sizing: inherit\; background-color: transparent\; color: rgb(58\, 133\, 56)\; overflow-wrap: break-word\; letter-spacing: inherit\; text-transform: inherit\; cursor: pointer\; font-weight: inherit\; display: inline\; font-size: unset\;">ATV Mud Drags</a>&nbsp\;(Open Arena)</span></p>\n\n<p style="box-sizing: inherit\; margin: 0px\; color: rgb(94\, 94\, 94)\; font-family: Lora\, serif\; font-size: 21px\;"><span class="x-el x-el-span c1-70 c1-71 c1-b c1-c c1-d c1-e c1-f c1-g" style="box-sizing: inherit\; letter-spacing: unset\; text-transform: unset\;"><span class="x-el x-el-span c1-24 c1-25 c1-b c1-9b c1-2h c1-4q c1-9c" style="box-sizing: inherit\; letter-spacing: inherit\; text-transform: inherit\; color: inherit\; font-weight: 700\; line-height: inherit\; font-size: inherit !important\;">9 pm-1&nbsp\;</span>&nbsp\;&nbsp\;&nbsp\;&nbsp\;&nbsp\;Street Dance featuring The BS Band</span></p>\n
LOCATION:Clay County Fairgrounds 515 High Street Vermillion\, SD 57069
UID:e.2277.23556
SEQUENCE:3
DTSTAMP:20260425T001705Z
URL:https://chamber.livevermillion.com/events/details/clay-county-fair-23556
END:VEVENT

END:VCALENDAR
