BEGIN:VCALENDAR
VERSION:2.0
PRODID:-//ChamberMaster//Event Calendar 2.0//EN
METHOD:PUBLISH
X-PUBLISHED-TTL:P3D
REFRESH-INTERVAL:P3D
CALSCALE:GREGORIAN
BEGIN:VEVENT
DTSTART:20220811T130000Z
DTEND:20220812T000000Z
X-MICROSOFT-CDO-ALLDAYEVENT:FALSE
SUMMARY:Clay County Fair
DESCRIPTION:12-9 pm    Exhibit Building Opens\n\n1-8 pm      Vendor Booths Open\n\n1-8 pm      Robotics Challenge by Robotics of Vermillion (Clover Hall) \n\n1-8 pm     Scout Me In Challenge by Scouts BSA (Clover Hall)\n\n12-10 pm  Inflatables\n\n1-7 pm      National Park Service Mobile Ranger Station\n\n1 pm         4-H Companion Animal Show (Tent)\n\n 2-4 pm       Fair Princess Pageant (Main Stage)\n\n 3 pm              4-H Rabbit Show \n\n3-6 pm      USD Herpetology\n\n3-11 pm     Beer Garden Tent\n\n5-7 pm       Heartland Humane Society w/ pets available for adoption \n\n5-7 pm       Vermillion Fire Department Smoke House\n\n5 pm           Arena Beer Garden Opens\n\n5-6 pm       Cornhole Tournament Registration (Open Arena)\n\n5-9 pm       Jetley Park performs\n\n5:30 pm     FREE Community BBQ\n\n5:30 pm     Pedal Pull Sign up (High St)\n\n5:30 pm     Thursday at the Platz \n\n6 pm          Dakota Kids Pedal Pull \n\n6 pm          4-H Swine Show \n\n6 pm          Cornhole Tournament hosted by American Legion Post 1 \n\n7 pm          Water Wars (west of arena)
X-ALT-DESC;FMTTYPE=text/html:<span style="box-sizing:inherit\;letter-spacing:unset\;text-transform:unset\;"><strong style="box-sizing:inherit\;letter-spacing:inherit\;text-transform:inherit\;color:inherit\;font-size:inherit !important\;line-height:inherit\;"><span style="color:#5E5E5E\;"><span style="font-family:lora\;"><span style="font-size:16.0pt\;">12-9 pm &nbsp\;&nbsp\;&nbsp\;</span></span></span></strong><span style="color:#5E5E5E\;"><span style="font-family:lora\;"><span style="font-size:16.0pt\;">Exhibit Building Opens</span></span></span></span><br />\n<span style="box-sizing:inherit\;letter-spacing:unset\;text-transform:unset\;"><strong style="box-sizing:inherit\;letter-spacing:inherit\;text-transform:inherit\;color:inherit\;font-size:inherit !important\;line-height:inherit\;"><span style="color:#5E5E5E\;"><span style="font-family:lora\;"><span style="font-size:16.0pt\;">1-8 pm &nbsp\;&nbsp\;&nbsp\;&nbsp\;&nbsp\;</span></span></span></strong><span style="color:#5E5E5E\;"><span style="font-family:lora\;"><span style="font-size:16.0pt\;">Vendor Booths Open</span></span></span></span><br />\n<span style="box-sizing:inherit\;letter-spacing:unset\;text-transform:unset\;"><strong style="box-sizing:inherit\;letter-spacing:inherit\;text-transform:inherit\;color:inherit\;font-size:inherit !important\;line-height:inherit\;"><span style="color:#5E5E5E\;"><span style="font-family:lora\;"><span style="font-size:16.0pt\;">1-8 pm</span></span></span></strong><span style="color:#5E5E5E\;"><span style="font-family:lora\;"><span style="font-size:16.0pt\;">&nbsp\;&nbsp\;&nbsp\;&nbsp\;&nbsp\;&nbsp\;Robotics Challenge by Robotics of Vermillion (Clover Hall)&nbsp\;</span></span></span></span><br />\n<span style="box-sizing:inherit\;letter-spacing:unset\;text-transform:unset\;"><strong style="box-sizing:inherit\;letter-spacing:inherit\;text-transform:inherit\;color:inherit\;font-size:inherit !important\;line-height:inherit\;"><span style="color:#5E5E5E\;"><span style="font-family:lora\;"><span style="font-size:16.0pt\;">1-8 pm</span></span></span></strong><span style="color:#5E5E5E\;"><span style="font-family:lora\;"><span style="font-size:16.0pt\;">&nbsp\;&nbsp\;&nbsp\;&nbsp\;&nbsp\;Scout Me In Challenge by Scouts BSA (Clover Hall)</span></span></span></span><br />\n<span style="box-sizing:inherit\;letter-spacing:unset\;text-transform:unset\;"><strong style="box-sizing:inherit\;letter-spacing:inherit\;text-transform:inherit\;color:inherit\;font-size:inherit !important\;line-height:inherit\;"><span style="color:#5E5E5E\;"><span style="font-family:lora\;"><span style="font-size:16.0pt\;">12-10 pm &nbsp\;</span></span></span></strong><span style="color:#5E5E5E\;"><span style="font-family:lora\;"><span style="font-size:16.0pt\;">Inflatables</span></span></span></span><br />\n<span style="box-sizing:inherit\;letter-spacing:unset\;text-transform:unset\;"><strong style="box-sizing:inherit\;letter-spacing:inherit\;text-transform:inherit\;color:inherit\;font-size:inherit !important\;line-height:inherit\;"><span style="color:#5E5E5E\;"><span style="font-family:lora\;"><span style="font-size:16.0pt\;">1-7 pm &nbsp\;&nbsp\;&nbsp\;&nbsp\;&nbsp\;</span></span></span></strong><span style="color:#5E5E5E\;"><span style="font-family:lora\;"><span style="font-size:16.0pt\;">National Park Service Mobile Ranger Station</span></span></span></span><br />\n<span style="box-sizing:inherit\;letter-spacing:unset\;text-transform:unset\;"><strong style="box-sizing:inherit\;letter-spacing:inherit\;text-transform:inherit\;color:inherit\;font-size:inherit !important\;line-height:inherit\;"><span style="color:#5E5E5E\;"><span style="font-family:lora\;"><span style="font-size:16.0pt\;">1 pm &nbsp\;&nbsp\;&nbsp\;&nbsp\;&nbsp\;&nbsp\;&nbsp\;&nbsp\;</span></span></span></strong><span style="color:#5E5E5E\;"><span style="font-family:lora\;"><span style="font-size:16.0pt\;">4-H Companion Animal Show (Tent)</span></span></span></span><br />\n<span style="box-sizing:inherit\;letter-spacing:unset\;text-transform:unset\;"><strong style="box-sizing:inherit\;letter-spacing:inherit\;text-transform:inherit\;color:inherit\;font-size:inherit !important\;line-height:inherit\;"><span style="color:#5E5E5E\;"><span style="font-family:arial\,sans-serif\;"><span style="font-size:16.0pt\;">&#8203\;</span></span></span></strong><strong><span style="color:#5E5E5E\;"><span style="font-family:lora\;"><span style="font-size:16.0pt\;">2-4 pm &nbsp\;&nbsp\;&nbsp\;&nbsp\;&nbsp\;&nbsp\;</span></span></span></strong><span style="color:#5E5E5E\;"><span style="font-family:lora\;"><span style="font-size:16.0pt\;"><a data-page="6f4c45c4-e5b4-4314-a405-97dd406d8345" href="https://claycountyfair.net/princess-pageant" style="box-sizing:inherit\;overflow-wrap:break-word\;letter-spacing:inherit\;text-transform:inherit\;cursor:pointer\;font-weight:inherit\;font-size:unset\;"><span style="color:#3A8538\;">Fair Princess Pageant&nbsp\;</span></a>(Main Stage)</span></span></span></span><br />\n<span style="box-sizing:inherit\;letter-spacing:unset\;text-transform:unset\;"><strong style="box-sizing:inherit\;letter-spacing:inherit\;text-transform:inherit\;color:inherit\;font-size:inherit !important\;line-height:inherit\;"><span style="color:#5E5E5E\;"><span style="font-family:arial\,sans-serif\;"><span style="font-size:16.0pt\;">&#8203\;</span></span></span></strong><strong><span style="color:#5E5E5E\;"><span style="font-family:lora\;"><span style="font-size:16.0pt\;">3 pm </span></span></span></strong>&nbsp\; &nbsp\; &nbsp\; &nbsp\; &nbsp\; &nbsp\; &nbsp\;<span style="color:#5E5E5E\;"><span style="font-family:lora\;"><span style="font-size:16.0pt\;">4-H Rabbit Show&nbsp\;</span></span></span></span><br />\n<span style="box-sizing:inherit\;letter-spacing:unset\;text-transform:unset\;"><strong style="box-sizing:inherit\;letter-spacing:inherit\;text-transform:inherit\;color:inherit\;font-size:inherit !important\;line-height:inherit\;"><span style="color:#5E5E5E\;"><span style="font-family:lora\;"><span style="font-size:16.0pt\;">3-6 pm</span></span></span></strong><span style="color:#5E5E5E\;"><span style="font-family:lora\;"><span style="font-size:16.0pt\;">&nbsp\;&nbsp\;&nbsp\;&nbsp\;&nbsp\;&nbsp\;USD Herpetology</span></span></span></span><br />\n<span style="box-sizing:inherit\;letter-spacing:unset\;text-transform:unset\;"><strong style="box-sizing:inherit\;letter-spacing:inherit\;text-transform:inherit\;color:inherit\;font-size:inherit !important\;line-height:inherit\;"><span style="color:#5E5E5E\;"><span style="font-family:lora\;"><span style="font-size:16.0pt\;">3-11 pm &nbsp\;&nbsp\;&nbsp\;&nbsp\;</span></span></span></strong><span style="color:#5E5E5E\;"><span style="font-family:lora\;"><span style="font-size:16.0pt\;">Beer Garden Tent</span></span></span></span><br />\n<span style="box-sizing:inherit\;letter-spacing:unset\;text-transform:unset\;"><strong style="box-sizing:inherit\;letter-spacing:inherit\;text-transform:inherit\;color:inherit\;font-size:inherit !important\;line-height:inherit\;"><span style="color:#5E5E5E\;"><span style="font-family:lora\;"><span style="font-size:16.0pt\;">5-7 pm &nbsp\;&nbsp\;&nbsp\;&nbsp\;&nbsp\;&nbsp\;</span></span></span></strong><span style="color:#5E5E5E\;"><span style="font-family:lora\;"><span style="font-size:16.0pt\;">Heartland Humane Society w/ pets available for adoption&nbsp\;</span></span></span></span><br />\n<span style="box-sizing:inherit\;letter-spacing:unset\;text-transform:unset\;"><strong style="box-sizing:inherit\;letter-spacing:inherit\;text-transform:inherit\;color:inherit\;font-size:inherit !important\;line-height:inherit\;"><span style="color:#5E5E5E\;"><span style="font-family:lora\;"><span style="font-size:16.0pt\;">5-7 pm</span></span></span></strong><span style="color:#5E5E5E\;"><span style="font-family:lora\;"><span style="font-size:16.0pt\;">&nbsp\;&nbsp\;&nbsp\;&nbsp\;&nbsp\;&nbsp\;&nbsp\;Vermillion Fire Department Smoke House</span></span></span></span><br />\n<span style="box-sizing:inherit\;letter-spacing:unset\;text-transform:unset\;"><strong style="box-sizing:inherit\;letter-spacing:inherit\;text-transform:inherit\;color:inherit\;font-size:inherit !important\;line-height:inherit\;"><span style="color:#5E5E5E\;"><span style="font-family:lora\;"><span style="font-size:16.0pt\;">5 pm</span></span></span></strong><span style="color:#5E5E5E\;"><span style="font-family:lora\;"><span style="font-size:16.0pt\;">&nbsp\;&nbsp\;&nbsp\;&nbsp\;&nbsp\;&nbsp\;&nbsp\;&nbsp\;&nbsp\;&nbsp\;&nbsp\;Arena Beer Garden Opens</span></span></span></span><br />\n<span style="box-sizing:inherit\;letter-spacing:unset\;text-transform:unset\;"><strong style="box-sizing:inherit\;letter-spacing:inherit\;text-transform:inherit\;color:inherit\;font-size:inherit !important\;line-height:inherit\;"><span style="color:#5E5E5E\;"><span style="font-family:lora\;"><span style="font-size:16.0pt\;">5-6 pm</span></span></span></strong><span style="color:#5E5E5E\;"><span style="font-family:lora\;"><span style="font-size:16.0pt\;">&nbsp\;&nbsp\;&nbsp\;&nbsp\;&nbsp\;&nbsp\;&nbsp\;Cornhole Tournament Registration (Open Arena)</span></span></span></span><br />\n<span style="box-sizing:inherit\;letter-spacing:unset\;text-transform:unset\;"><strong style="box-sizing:inherit\;letter-spacing:inherit\;text-transform:inherit\;color:inherit\;font-size:inherit !important\;line-height:inherit\;"><span style="color:#5E5E5E\;"><span style="font-family:lora\;"><span style="font-size:16.0pt\;">5-9 pm</span></span></span></strong><span style="color:#5E5E5E\;"><span style="font-family:lora\;"><span style="font-size:16.0pt\;">&nbsp\;&nbsp\;&nbsp\;&nbsp\;&nbsp\;&nbsp\;&nbsp\;Jetley Park performs</span></span></span></span><br />\n<span style="box-sizing:inherit\;letter-spacing:unset\;text-transform:unset\;"><strong style="box-sizing:inherit\;letter-spacing:inherit\;text-transform:inherit\;color:inherit\;font-size:inherit !important\;line-height:inherit\;"><span style="color:#5E5E5E\;"><span style="font-family:lora\;"><span style="font-size:16.0pt\;">5:30 pm &nbsp\;&nbsp\;&nbsp\;&nbsp\;</span></span></span></strong><span style="color:#5E5E5E\;"><span style="font-family:lora\;"><span style="font-size:16.0pt\;">FREE Community BBQ</span></span></span></span><br />\n<span style="box-sizing:inherit\;letter-spacing:unset\;text-transform:unset\;"><strong style="box-sizing:inherit\;letter-spacing:inherit\;text-transform:inherit\;color:inherit\;font-size:inherit !important\;line-height:inherit\;"><span style="color:#5E5E5E\;"><span style="font-family:lora\;"><span style="font-size:16.0pt\;">5:30 pm &nbsp\;&nbsp\;&nbsp\;&nbsp\;</span></span></span></strong><span style="color:#5E5E5E\;"><span style="font-family:lora\;"><span style="font-size:16.0pt\;">Pedal Pull Sign up (High St)</span></span></span></span><br />\n<strong><span style="color:#5E5E5E\;"><span style="font-family:lora\;"><span style="font-size:16.0pt\;">5:30 pm &nbsp\;&nbsp\;&nbsp\;&nbsp\;</span></span></span></strong><span style="color:#5E5E5E\;"><span style="font-family:lora\;"><span style="font-size:16.0pt\;">Thursday at the Platz&nbsp\;</span></span></span><br />\n<span style="box-sizing:inherit\;letter-spacing:unset\;text-transform:unset\;"><strong style="box-sizing:inherit\;letter-spacing:inherit\;text-transform:inherit\;color:inherit\;font-size:inherit !important\;line-height:inherit\;"><span style="color:#5E5E5E\;"><span style="font-family:lora\;"><span style="font-size:16.0pt\;">6 pm &nbsp\;&nbsp\;&nbsp\;&nbsp\;&nbsp\;&nbsp\;&nbsp\;&nbsp\;&nbsp\;</span></span></span></strong><span style="color:#5E5E5E\;"><span style="font-family:lora\;"><span style="font-size:16.0pt\;"><a data-page="50283add-ef3d-4931-aa42-77c8c2d58e9e" href="https://claycountyfair.net/pedal-pull" style="box-sizing:inherit\;overflow-wrap:break-word\;letter-spacing:inherit\;text-transform:inherit\;cursor:pointer\;font-weight:inherit\;font-size:unset\;"><span style="color:#3A8538\;">Dakota Kids Pedal Pull</span></a>&nbsp\;</span></span></span></span><br />\n<span style="box-sizing:inherit\;letter-spacing:unset\;text-transform:unset\;"><strong style="box-sizing:inherit\;letter-spacing:inherit\;text-transform:inherit\;color:inherit\;font-size:inherit !important\;line-height:inherit\;"><span style="color:#5E5E5E\;"><span style="font-family:lora\;"><span style="font-size:16.0pt\;">6 pm &nbsp\;&nbsp\;&nbsp\;&nbsp\;&nbsp\;&nbsp\;&nbsp\;&nbsp\;&nbsp\;</span></span></span></strong><span style="color:#5E5E5E\;"><span style="font-family:lora\;"><span style="font-size:16.0pt\;">4-H Swine Show&nbsp\;</span></span></span></span><br />\n<span style="box-sizing:inherit\;letter-spacing:unset\;text-transform:unset\;"><strong style="box-sizing:inherit\;letter-spacing:inherit\;text-transform:inherit\;color:inherit\;font-size:inherit !important\;line-height:inherit\;"><span style="color:#5E5E5E\;"><span style="font-family:lora\;"><span style="font-size:16.0pt\;">6 pm</span></span></span></strong><span style="color:#5E5E5E\;"><span style="font-family:lora\;"><span style="font-size:16.0pt\;">&nbsp\;&nbsp\;&nbsp\;&nbsp\;&nbsp\;&nbsp\;&nbsp\;&nbsp\;&nbsp\;&nbsp\;<a data-page="f9c0796b-a949-4062-bf05-e2583893dd6d" href="https://claycountyfair.net/cornhole-tournament" style="box-sizing:inherit\;overflow-wrap:break-word\;letter-spacing:inherit\;text-transform:inherit\;cursor:pointer\;font-weight:inherit\;font-size:unset\;"><span style="color:#3A8538\;">Cornhole Tournament</span></a>&nbsp\;hosted by American Legion Post 1&nbsp\;</span></span></span></span><br />\n<span style="box-sizing:inherit\;letter-spacing:unset\;text-transform:unset\;"><strong style="box-sizing:inherit\;letter-spacing:inherit\;text-transform:inherit\;color:inherit\;font-size:inherit !important\;line-height:inherit\;"><span style="color:#5E5E5E\;"><span style="font-family:lora\;"><span style="font-size:16.0pt\;">7 pm</span></span></span></strong><span style="color:#5E5E5E\;"><span style="font-family:lora\;"><span style="font-size:16.0pt\;">&nbsp\;&nbsp\;&nbsp\;&nbsp\;&nbsp\;&nbsp\;&nbsp\;&nbsp\;&nbsp\;&nbsp\;Water Wars (west of arena)</span></span></span></span>
LOCATION:Clay County Fairgrounds 515 High Street Vermillion\, SD 57069
UID:e.2277.24393
SEQUENCE:3
DTSTAMP:20260423T102849Z
URL:https://chamber.livevermillion.com/events/details/clay-county-fair-24393
END:VEVENT

END:VCALENDAR
