BEGIN:VCALENDAR
VERSION:2.0
PRODID:-//ChamberMaster//Event Calendar 2.0//EN
METHOD:PUBLISH
X-PUBLISHED-TTL:P3D
REFRESH-INTERVAL:P3D
CALSCALE:GREGORIAN
BEGIN:VEVENT
DTSTART:20240808T153000Z
DTEND:20240809T000000Z
X-MICROSOFT-CDO-ALLDAYEVENT:FALSE
SUMMARY:Clay County Fair
DESCRIPTION:7-11 am      Beef\, Sheep\, Swine\, Goat\, Rabbit\, Poultry - weigh & check-in\n\n10:30 am  4-H Companion Animal Show (Jensen Hall)\n\n11-9 pm    Exhibit Building Opens\n\n12 pm        4-H Poultry Show  \n\n12-10 pm  Inflatables\n\n1-3 pm      Tahiti Joe\n\n1-5 pm      Sanford Health Activities\n\n1-7 pm      Honey Bee Demonstration\n\n1-8 pm      Vendor Booths Open\n\n1-8 pm      Robotics Challenge by Robotics of Vermillion (Clover Hall) \n\n3-11 pm   Beer Garden Tent\n\n4-6 pm    Horse Rides (Softball Fields)\n\n5 pm        FREE Community BBQ\n\n5 pm        4-H Swine Show\n\n5-6 pm    Heartland Humane Society with pets available for adoption \n\n5-7 pm    Vermillion Fire Department and Rescue Demonstrations\n\n5-7 pm     Local Fare at the Fair hosted by Farmers Market (Clover Hall)\n\n5-9 pm    Jetley Park performs\n\n5:30 pm  Thursday at the Platz \n\n6 pm        Arena Beer Garden Opens\n\n7 pm        Raise'em Rank Bull Riding
X-ALT-DESC;FMTTYPE=text/html:<p style="box-sizing: inherit\; margin: 0px\; color: rgb(94\, 94\, 94)\; font-family: Lora\, serif\; font-size: 21px\;"><span class="x-el x-el-span c1-74 c1-75 c1-b c1-c c1-d c1-e c1-f c1-g" style="box-sizing: inherit\; letter-spacing: unset\; text-transform: unset\;"><span class="x-el x-el-span c1-26 c1-27 c1-b c1-9f c1-2h c1-4p c1-9g" style="box-sizing: inherit\; letter-spacing: inherit\; text-transform: inherit\; color: inherit\; font-weight: 700\; line-height: inherit\; font-size: inherit !important\;">7-11 am &nbsp\;&nbsp\;&nbsp\;&nbsp\;&nbsp\;</span>Beef\, Sheep\, Swine\, Goat\, Rabbit\, Poultry - weigh &amp\; check-in</span></p>\n\n<p style="box-sizing: inherit\; margin: 0px\; color: rgb(94\, 94\, 94)\; font-family: Lora\, serif\; font-size: 21px\;"><span class="x-el x-el-span c1-74 c1-75 c1-b c1-c c1-d c1-e c1-f c1-g" style="box-sizing: inherit\; letter-spacing: unset\; text-transform: unset\;"><span class="x-el x-el-span c1-26 c1-27 c1-b c1-9f c1-2h c1-4p c1-9g" style="box-sizing: inherit\; letter-spacing: inherit\; text-transform: inherit\; color: inherit\; font-weight: 700\; line-height: inherit\; font-size: inherit !important\;">10:30 am &nbsp\;</span>4-H Companion Animal Show (Jensen Hall)</span></p>\n\n<p style="box-sizing: inherit\; margin: 0px\; color: rgb(94\, 94\, 94)\; font-family: Lora\, serif\; font-size: 21px\;"><span class="x-el x-el-span c1-74 c1-75 c1-b c1-c c1-d c1-e c1-f c1-g" style="box-sizing: inherit\; letter-spacing: unset\; text-transform: unset\;"><span class="x-el x-el-span c1-26 c1-27 c1-b c1-9f c1-2h c1-4p c1-9g" style="box-sizing: inherit\; letter-spacing: inherit\; text-transform: inherit\; color: inherit\; font-weight: 700\; line-height: inherit\; font-size: inherit !important\;">11-9 pm &nbsp\;&nbsp\;&nbsp\;</span>Exhibit Building Opens</span></p>\n\n<p style="box-sizing: inherit\; margin: 0px\; color: rgb(94\, 94\, 94)\; font-family: Lora\, serif\; font-size: 21px\;"><span class="x-el x-el-span c1-74 c1-75 c1-b c1-c c1-d c1-e c1-f c1-g" style="box-sizing: inherit\; letter-spacing: unset\; text-transform: unset\;"><span class="x-el x-el-span c1-26 c1-27 c1-b c1-9f c1-2h c1-4p c1-9g" style="box-sizing: inherit\; letter-spacing: inherit\; text-transform: inherit\; color: inherit\; font-weight: 700\; line-height: inherit\; font-size: inherit !important\;">12 pm &nbsp\;&nbsp\;&nbsp\;&nbsp\;&nbsp\;&nbsp\;&nbsp\;</span>4-H Poultry Show &nbsp\;</span></p>\n\n<p style="box-sizing: inherit\; margin: 0px\; color: rgb(94\, 94\, 94)\; font-family: Lora\, serif\; font-size: 21px\;"><span class="x-el x-el-span c1-74 c1-75 c1-b c1-c c1-d c1-e c1-f c1-g" style="box-sizing: inherit\; letter-spacing: unset\; text-transform: unset\;"><span class="x-el x-el-span c1-26 c1-27 c1-b c1-9f c1-2h c1-4p c1-9g" style="box-sizing: inherit\; letter-spacing: inherit\; text-transform: inherit\; color: inherit\; font-weight: 700\; line-height: inherit\; font-size: inherit !important\;">12-10 pm &nbsp\;</span>Inflatables</span></p>\n\n<p style="box-sizing: inherit\; margin: 0px\; color: rgb(94\, 94\, 94)\; font-family: Lora\, serif\; font-size: 21px\;"><span class="x-el x-el-span c1-74 c1-75 c1-b c1-c c1-d c1-e c1-f c1-g" style="box-sizing: inherit\; letter-spacing: unset\; text-transform: unset\;"><span class="x-el x-el-span c1-26 c1-27 c1-b c1-9f c1-2h c1-4p c1-9g" style="box-sizing: inherit\; letter-spacing: inherit\; text-transform: inherit\; color: inherit\; font-weight: 700\; line-height: inherit\; font-size: inherit !important\;">1-3 pm &nbsp\;&nbsp\;&nbsp\;&nbsp\;&nbsp\;</span>Tahiti Joe</span></p>\n\n<p style="box-sizing: inherit\; margin: 0px\; color: rgb(94\, 94\, 94)\; font-family: Lora\, serif\; font-size: 21px\;"><span class="x-el x-el-span c1-74 c1-75 c1-b c1-c c1-d c1-e c1-f c1-g" style="box-sizing: inherit\; letter-spacing: unset\; text-transform: unset\;"><span class="x-el x-el-span c1-26 c1-27 c1-b c1-9f c1-2h c1-4p c1-9g" style="box-sizing: inherit\; letter-spacing: inherit\; text-transform: inherit\; color: inherit\; font-weight: 700\; line-height: inherit\; font-size: inherit !important\;">1-5 pm&nbsp\;</span>&nbsp\;&nbsp\;&nbsp\;&nbsp\;&nbsp\;Sanford Health Activities</span></p>\n\n<p style="box-sizing: inherit\; margin: 0px\; color: rgb(94\, 94\, 94)\; font-family: Lora\, serif\; font-size: 21px\;"><span class="x-el x-el-span c1-74 c1-75 c1-b c1-c c1-d c1-e c1-f c1-g" style="box-sizing: inherit\; letter-spacing: unset\; text-transform: unset\;"><span class="x-el x-el-span c1-26 c1-27 c1-b c1-9f c1-2h c1-4p c1-9g" style="box-sizing: inherit\; letter-spacing: inherit\; text-transform: inherit\; color: inherit\; font-weight: 700\; line-height: inherit\; font-size: inherit !important\;">1-7 pm</span>&nbsp\;&nbsp\;&nbsp\;&nbsp\;&nbsp\;&nbsp\;Honey Bee Demonstration</span></p>\n\n<p style="box-sizing: inherit\; margin: 0px\; color: rgb(94\, 94\, 94)\; font-family: Lora\, serif\; font-size: 21px\;"><span class="x-el x-el-span c1-74 c1-75 c1-b c1-c c1-d c1-e c1-f c1-g" style="box-sizing: inherit\; letter-spacing: unset\; text-transform: unset\;"><span class="x-el x-el-span c1-26 c1-27 c1-b c1-9f c1-2h c1-4p c1-9g" style="box-sizing: inherit\; letter-spacing: inherit\; text-transform: inherit\; color: inherit\; font-weight: 700\; line-height: inherit\; font-size: inherit !important\;">1-8 pm &nbsp\;&nbsp\;&nbsp\;&nbsp\;&nbsp\;</span>Vendor Booths Open</span></p>\n\n<p style="box-sizing: inherit\; margin: 0px\; color: rgb(94\, 94\, 94)\; font-family: Lora\, serif\; font-size: 21px\;"><span class="x-el x-el-span c1-74 c1-75 c1-b c1-c c1-d c1-e c1-f c1-g" style="box-sizing: inherit\; letter-spacing: unset\; text-transform: unset\;"><span class="x-el x-el-span c1-26 c1-27 c1-b c1-9f c1-2h c1-4p c1-9g" style="box-sizing: inherit\; letter-spacing: inherit\; text-transform: inherit\; color: inherit\; font-weight: 700\; line-height: inherit\; font-size: inherit !important\;">1-8 pm</span>&nbsp\;&nbsp\;&nbsp\;&nbsp\;&nbsp\;&nbsp\;Robotics Challenge by Robotics of Vermillion (Clover Hall)&nbsp\;</span></p>\n\n<p style="box-sizing: inherit\; margin: 0px\; color: rgb(94\, 94\, 94)\; font-family: Lora\, serif\; font-size: 21px\;"><span class="x-el x-el-span c1-74 c1-75 c1-b c1-c c1-d c1-e c1-f c1-g" style="box-sizing: inherit\; letter-spacing: unset\; text-transform: unset\;"><span class="x-el x-el-span c1-26 c1-27 c1-b c1-9f c1-2h c1-4p c1-9g" style="box-sizing: inherit\; letter-spacing: inherit\; text-transform: inherit\; color: inherit\; font-weight: 700\; line-height: inherit\; font-size: inherit !important\;">3-11 pm &nbsp\;&nbsp\;</span>Beer Garden Tent</span></p>\n\n<p style="box-sizing: inherit\; margin: 0px\; color: rgb(94\, 94\, 94)\; font-family: Lora\, serif\; font-size: 21px\;"><span class="x-el x-el-span c1-74 c1-75 c1-b c1-c c1-d c1-e c1-f c1-g" style="box-sizing: inherit\; letter-spacing: unset\; text-transform: unset\;"><span class="x-el x-el-span c1-26 c1-27 c1-b c1-9f c1-2h c1-4p c1-9g" style="box-sizing: inherit\; letter-spacing: inherit\; text-transform: inherit\; color: inherit\; font-weight: 700\; line-height: inherit\; font-size: inherit !important\;">4-6 pm &nbsp\;&nbsp\;&nbsp\;</span>Horse Rides (Softball Fields)</span></p>\n\n<p style="box-sizing: inherit\; margin: 0px\; color: rgb(94\, 94\, 94)\; font-family: Lora\, serif\; font-size: 21px\;"><span class="x-el x-el-span c1-74 c1-75 c1-b c1-c c1-d c1-e c1-f c1-g" style="box-sizing: inherit\; letter-spacing: unset\; text-transform: unset\;"><span class="x-el x-el-span c1-26 c1-27 c1-b c1-9f c1-2h c1-4p c1-9g" style="box-sizing: inherit\; letter-spacing: inherit\; text-transform: inherit\; color: inherit\; font-weight: 700\; line-height: inherit\; font-size: inherit !important\;">5 pm &nbsp\;&nbsp\;&nbsp\;&nbsp\;&nbsp\;&nbsp\;&nbsp\;</span>FREE Community BBQ</span></p>\n\n<p style="box-sizing: inherit\; margin: 0px\; color: rgb(94\, 94\, 94)\; font-family: Lora\, serif\; font-size: 21px\;"><span class="x-el x-el-span c1-74 c1-75 c1-b c1-c c1-d c1-e c1-f c1-g" style="box-sizing: inherit\; letter-spacing: unset\; text-transform: unset\;"><span class="x-el x-el-span c1-26 c1-27 c1-b c1-9f c1-2h c1-4p c1-9g" style="box-sizing: inherit\; letter-spacing: inherit\; text-transform: inherit\; color: inherit\; font-weight: 700\; line-height: inherit\; font-size: inherit !important\;">5 pm &nbsp\;&nbsp\;&nbsp\;&nbsp\;&nbsp\;&nbsp\;&nbsp\;</span>4-H Swine Show</span></p>\n\n<p style="box-sizing: inherit\; margin: 0px\; color: rgb(94\, 94\, 94)\; font-family: Lora\, serif\; font-size: 21px\;"><span class="x-el x-el-span c1-74 c1-75 c1-b c1-c c1-d c1-e c1-f c1-g" style="box-sizing: inherit\; letter-spacing: unset\; text-transform: unset\;"><span class="x-el x-el-span c1-26 c1-27 c1-b c1-9f c1-2h c1-4p c1-9g" style="box-sizing: inherit\; letter-spacing: inherit\; text-transform: inherit\; color: inherit\; font-weight: 700\; line-height: inherit\; font-size: inherit !important\;">5-6 pm &nbsp\;&nbsp\;&nbsp\;</span>Heartland Humane Society with pets available for adoption&nbsp\;</span></p>\n\n<p style="box-sizing: inherit\; margin: 0px\; color: rgb(94\, 94\, 94)\; font-family: Lora\, serif\; font-size: 21px\;"><span class="x-el x-el-span c1-74 c1-75 c1-b c1-c c1-d c1-e c1-f c1-g" style="box-sizing: inherit\; letter-spacing: unset\; text-transform: unset\;"><span class="x-el x-el-span c1-26 c1-27 c1-b c1-9f c1-2h c1-4p c1-9g" style="box-sizing: inherit\; letter-spacing: inherit\; text-transform: inherit\; color: inherit\; font-weight: 700\; line-height: inherit\; font-size: inherit !important\;">5-7 pm</span>&nbsp\;&nbsp\;&nbsp\;&nbsp\;Vermillion Fire Department and Rescue Demonstrations</span></p>\n\n<p style="box-sizing: inherit\; margin: 0px\; color: rgb(94\, 94\, 94)\; font-family: Lora\, serif\; font-size: 21px\;"><span class="x-el x-el-span c1-74 c1-75 c1-b c1-c c1-d c1-e c1-f c1-g" style="box-sizing: inherit\; letter-spacing: unset\; text-transform: unset\;"><span class="x-el x-el-span c1-26 c1-27 c1-b c1-9f c1-2h c1-4p c1-9g" style="box-sizing: inherit\; letter-spacing: inherit\; text-transform: inherit\; color: inherit\; font-weight: 700\; line-height: inherit\; font-size: inherit !important\;">5-7 pm</span>&nbsp\;&nbsp\;&nbsp\;&nbsp\;&nbsp\;Local Fare at the Fair hosted by Farmers Market (Clover Hall)</span></p>\n\n<p style="box-sizing: inherit\; margin: 0px\; color: rgb(94\, 94\, 94)\; font-family: Lora\, serif\; font-size: 21px\;"><span class="x-el x-el-span c1-74 c1-75 c1-b c1-c c1-d c1-e c1-f c1-g" style="box-sizing: inherit\; letter-spacing: unset\; text-transform: unset\;"><span class="x-el x-el-span c1-26 c1-27 c1-b c1-9f c1-2h c1-4p c1-9g" style="box-sizing: inherit\; letter-spacing: inherit\; text-transform: inherit\; color: inherit\; font-weight: 700\; line-height: inherit\; font-size: inherit !important\;">5-9 pm</span>&nbsp\;&nbsp\;&nbsp\;&nbsp\;Jetley Park performs</span></p>\n\n<p style="box-sizing: inherit\; margin: 0px\; color: rgb(94\, 94\, 94)\; font-family: Lora\, serif\; font-size: 21px\;"><span class="x-el x-el-span c1-74 c1-75 c1-b c1-c c1-d c1-e c1-f c1-g" style="box-sizing: inherit\; letter-spacing: unset\; text-transform: unset\;"><span class="x-el x-el-span c1-26 c1-27 c1-b c1-9f c1-2h c1-4p c1-9g" style="box-sizing: inherit\; letter-spacing: inherit\; text-transform: inherit\; color: inherit\; font-weight: 700\; line-height: inherit\; font-size: inherit !important\;">5:30 pm &nbsp\;</span>Thursday at the Platz&nbsp\;</span></p>\n\n<p style="box-sizing: inherit\; margin: 0px\; color: rgb(94\, 94\, 94)\; font-family: Lora\, serif\; font-size: 21px\;"><span class="x-el x-el-span c1-74 c1-75 c1-b c1-c c1-d c1-e c1-f c1-g" style="box-sizing: inherit\; letter-spacing: unset\; text-transform: unset\;"><span class="x-el x-el-span c1-26 c1-27 c1-b c1-9f c1-2h c1-4p c1-9g" style="box-sizing: inherit\; letter-spacing: inherit\; text-transform: inherit\; color: inherit\; font-weight: 700\; line-height: inherit\; font-size: inherit !important\;">6 pm</span>&nbsp\;&nbsp\;&nbsp\;&nbsp\;&nbsp\;&nbsp\;&nbsp\;&nbsp\;Arena Beer Garden Opens</span></p>\n\n<p style="box-sizing: inherit\; margin: 0px\; color: rgb(94\, 94\, 94)\; font-family: Lora\, serif\; font-size: 21px\;"><span class="x-el x-el-span c1-74 c1-75 c1-b c1-c c1-d c1-e c1-f c1-g" style="box-sizing: inherit\; letter-spacing: unset\; text-transform: unset\;"><span class="x-el x-el-span c1-26 c1-27 c1-b c1-9f c1-2h c1-4p c1-9g" style="box-sizing: inherit\; letter-spacing: inherit\; text-transform: inherit\; color: inherit\; font-weight: 700\; line-height: inherit\; font-size: inherit !important\;">7 pm</span>&nbsp\;&nbsp\;&nbsp\;&nbsp\;&nbsp\;&nbsp\;&nbsp\;&nbsp\;<u><a class="x-el x-el-a c1-26 c1-27 c1-9j c1-1m c1-1n c1-2z c1-w c1-71 c1-b c1-6u c1-2e c1-9p c1-9q" data-page="f038855a-41da-42e8-b40e-64c135e7939b" href="https://claycountyfair.net/bull-riding" style="box-sizing: inherit\; background-color: transparent\; color: rgb(19\, 77\, 42)\; cursor: pointer\; overflow-wrap: break-word\; letter-spacing: inherit\; text-transform: inherit\; font-weight: inherit\; display: inline\; font-size: unset\;">Raise&#39\;em Rank Bull Riding</a></u></span></p>\n
LOCATION:515 High Street Vermillion\, SD 57069
UID:e.2277.27374
SEQUENCE:3
DTSTAMP:20260425T181206Z
URL:https://chamber.livevermillion.com/events/details/clay-county-fair-27374
END:VEVENT

END:VCALENDAR
