BEGIN:VCALENDAR
VERSION:2.0
PRODID:-//ChamberMaster//Event Calendar 2.0//EN
METHOD:PUBLISH
X-PUBLISHED-TTL:P3D
REFRESH-INTERVAL:P3D
CALSCALE:GREGORIAN
BEGIN:VEVENT
DTSTART:20240809T130000Z
DTEND:20240810T043000Z
X-MICROSOFT-CDO-ALLDAYEVENT:FALSE
SUMMARY:Clay County Fair
DESCRIPTION:9-9 pm      Exhibit Building Opens\n\n8:30 am     4-H Goat and Sheep Show \n\n10 am        Storytime with Vermillion Public Library (Tent)\n\n11-1 pm     Elaine Peacock Band\n\n11-6 pm    Ag  Day \n\n 11-6 pm    Clay Union Electric Demonstrations and Customer Appreciation Event\n\n12-10 pm  Inflatables\n\n1-5 pm      Sanford Health Activities\n\n1-7 pm       Honey Bee Demonstration \n\n1-8 pm      Vendor Booths Open\n\n1-8 pm      Robotics Challenge by Robotics of Vermillion (Clover Hall)  \n\n2 pm         4-H Rabbit Show  \n\n2-6 pm     4-H Ambassador's Petting Zoo\n\n2-6 pm      Children's Activities by Boys & Girls Club (Clover Hall)\n\n3 pm        Animal Costume Contest (Covered Arena) \n\n3-6 pm      USD Herpetology (Clover Hall)\n\n3-12 am    Beer Garden Tent\n\n3:30 pm    Barnyard Olympics Sign up\n\n4 pm         Arena Beer Garden Opens\n\n4:30 pm    Barnyard Olympics\n\n5-7 pm      Highway Patrol Demonstration\n\n5 pm         Ice Cream Social \n\n5-6:30 pm ATV Mud Drags Registration \n\n7 pm          ATV Mud Drags (Open Arena)\n\n8-12 am     Street Dance featuring Leila's Rose
X-ALT-DESC;FMTTYPE=text/html:<p style="box-sizing: inherit\; margin: 0px\; color: rgb(94\, 94\, 94)\; font-family: Lora\, serif\; font-size: 21px\;"><span class="x-el x-el-span c1-74 c1-75 c1-b c1-c c1-d c1-e c1-f c1-g" style="box-sizing: inherit\; letter-spacing: unset\; text-transform: unset\;"><span class="x-el x-el-span c1-26 c1-27 c1-b c1-9f c1-2h c1-4p c1-9g" style="box-sizing: inherit\; letter-spacing: inherit\; text-transform: inherit\; color: inherit\; font-weight: 700\; line-height: inherit\; font-size: inherit !important\;">9-9 pm &nbsp\;&nbsp\;&nbsp\;&nbsp\;&nbsp\;</span>Exhibit Building Opens</span></p>\n\n<p style="box-sizing: inherit\; margin: 0px\; color: rgb(94\, 94\, 94)\; font-family: Lora\, serif\; font-size: 21px\;"><span class="x-el x-el-span c1-74 c1-75 c1-b c1-c c1-d c1-e c1-f c1-g" style="box-sizing: inherit\; letter-spacing: unset\; text-transform: unset\;"><span class="x-el x-el-span c1-26 c1-27 c1-b c1-9f c1-2h c1-4p c1-9g" style="box-sizing: inherit\; letter-spacing: inherit\; text-transform: inherit\; color: inherit\; font-weight: 700\; line-height: inherit\; font-size: inherit !important\;">8:30 am &nbsp\;&nbsp\;&nbsp\;&nbsp\;</span>4-H Goat and Sheep Show&nbsp\;</span></p>\n\n<p style="box-sizing: inherit\; margin: 0px\; color: rgb(94\, 94\, 94)\; font-family: Lora\, serif\; font-size: 21px\;"><span class="x-el x-el-span c1-74 c1-75 c1-b c1-c c1-d c1-e c1-f c1-g" style="box-sizing: inherit\; letter-spacing: unset\; text-transform: unset\;"><span class="x-el x-el-span c1-26 c1-27 c1-b c1-9f c1-2h c1-4p c1-9g" style="box-sizing: inherit\; letter-spacing: inherit\; text-transform: inherit\; color: inherit\; font-weight: 700\; line-height: inherit\; font-size: inherit !important\;">10 am &nbsp\;&nbsp\;&nbsp\;&nbsp\;&nbsp\;&nbsp\;&nbsp\;</span>Storytime with Vermillion Public Library (Tent)</span></p>\n\n<p style="box-sizing: inherit\; margin: 0px\; color: rgb(94\, 94\, 94)\; font-family: Lora\, serif\; font-size: 21px\;"><span class="x-el x-el-span c1-74 c1-75 c1-b c1-c c1-d c1-e c1-f c1-g" style="box-sizing: inherit\; letter-spacing: unset\; text-transform: unset\;"><span class="x-el x-el-span c1-26 c1-27 c1-b c1-9f c1-2h c1-4p c1-9g" style="box-sizing: inherit\; letter-spacing: inherit\; text-transform: inherit\; color: inherit\; font-weight: 700\; line-height: inherit\; font-size: inherit !important\;">11-1 pm</span>&nbsp\;&nbsp\;&nbsp\;&nbsp\;&nbsp\;Elaine Peacock Band</span></p>\n\n<p style="box-sizing: inherit\; margin: 0px\; color: rgb(94\, 94\, 94)\; font-family: Lora\, serif\; font-size: 21px\;"><span class="x-el x-el-span c1-74 c1-75 c1-b c1-c c1-d c1-e c1-f c1-g" style="box-sizing: inherit\; letter-spacing: unset\; text-transform: unset\;"><span class="x-el x-el-span c1-26 c1-27 c1-b c1-9f c1-2h c1-4p c1-9g" style="box-sizing: inherit\; letter-spacing: inherit\; text-transform: inherit\; color: inherit\; font-weight: 700\; line-height: inherit\; font-size: inherit !important\;">11-6 pm</span>&nbsp\;&nbsp\;&nbsp\;&nbsp\;Ag &nbsp\;Day&nbsp\;</span></p>\n\n<p style="box-sizing: inherit\; margin: 0px\; color: rgb(94\, 94\, 94)\; font-family: Lora\, serif\; font-size: 21px\;"><span class="x-el x-el-span c1-74 c1-75 c1-b c1-c c1-d c1-e c1-f c1-g" style="box-sizing: inherit\; letter-spacing: unset\; text-transform: unset\;"><span class="x-el x-el-span c1-26 c1-27 c1-b c1-9f c1-2h c1-4p c1-9g" style="box-sizing: inherit\; letter-spacing: inherit\; text-transform: inherit\; color: inherit\; font-weight: 700\; line-height: inherit\; font-size: inherit !important\;">&#8203\;11-6 pm &nbsp\;&nbsp\;&nbsp\;</span>Clay Union Electric Demonstrations and Customer Appreciation Event</span></p>\n\n<p style="box-sizing: inherit\; margin: 0px\; color: rgb(94\, 94\, 94)\; font-family: Lora\, serif\; font-size: 21px\;"><span class="x-el x-el-span c1-74 c1-75 c1-b c1-c c1-d c1-e c1-f c1-g" style="box-sizing: inherit\; letter-spacing: unset\; text-transform: unset\;"><span class="x-el x-el-span c1-26 c1-27 c1-b c1-9f c1-2h c1-4p c1-9g" style="box-sizing: inherit\; letter-spacing: inherit\; text-transform: inherit\; color: inherit\; font-weight: 700\; line-height: inherit\; font-size: inherit !important\;">12-10 pm &nbsp\;</span>Inflatables<br style="box-sizing: inherit\;" />\n<span class="x-el x-el-span c1-26 c1-27 c1-b c1-9f c1-2h c1-4p c1-9g" style="box-sizing: inherit\; letter-spacing: inherit\; text-transform: inherit\; color: inherit\; font-weight: 700\; line-height: inherit\; font-size: inherit !important\;">1-5 pm</span>&nbsp\;&nbsp\;&nbsp\;&nbsp\;&nbsp\;&nbsp\;Sanford Health Activities</span></p>\n\n<p style="box-sizing: inherit\; margin: 0px\; color: rgb(94\, 94\, 94)\; font-family: Lora\, serif\; font-size: 21px\;"><span class="x-el x-el-span c1-74 c1-75 c1-b c1-c c1-d c1-e c1-f c1-g" style="box-sizing: inherit\; letter-spacing: unset\; text-transform: unset\;"><span class="x-el x-el-span c1-26 c1-27 c1-b c1-9f c1-2h c1-4p c1-9g" style="box-sizing: inherit\; letter-spacing: inherit\; text-transform: inherit\; color: inherit\; font-weight: 700\; line-height: inherit\; font-size: inherit !important\;">1-7 pm</span>&nbsp\;&nbsp\;&nbsp\;&nbsp\;&nbsp\;&nbsp\;&nbsp\;Honey Bee Demonstration&nbsp\;</span></p>\n\n<p style="box-sizing: inherit\; margin: 0px\; color: rgb(94\, 94\, 94)\; font-family: Lora\, serif\; font-size: 21px\;"><span class="x-el x-el-span c1-74 c1-75 c1-b c1-c c1-d c1-e c1-f c1-g" style="box-sizing: inherit\; letter-spacing: unset\; text-transform: unset\;"><span class="x-el x-el-span c1-26 c1-27 c1-b c1-9f c1-2h c1-4p c1-9g" style="box-sizing: inherit\; letter-spacing: inherit\; text-transform: inherit\; color: inherit\; font-weight: 700\; line-height: inherit\; font-size: inherit !important\;">1-8 pm &nbsp\;&nbsp\;&nbsp\;&nbsp\;&nbsp\;</span>Vendor Booths Open</span></p>\n\n<p style="box-sizing: inherit\; margin: 0px\; color: rgb(94\, 94\, 94)\; font-family: Lora\, serif\; font-size: 21px\;"><span class="x-el x-el-span c1-74 c1-75 c1-b c1-c c1-d c1-e c1-f c1-g" style="box-sizing: inherit\; letter-spacing: unset\; text-transform: unset\;"><span class="x-el x-el-span c1-26 c1-27 c1-b c1-9f c1-2h c1-4p c1-9g" style="box-sizing: inherit\; letter-spacing: inherit\; text-transform: inherit\; color: inherit\; font-weight: 700\; line-height: inherit\; font-size: inherit !important\;">1-8 pm</span>&nbsp\;&nbsp\;&nbsp\;&nbsp\;&nbsp\;&nbsp\;Robotics Challenge by Robotics of Vermillion (Clover Hall) &nbsp\;</span></p>\n\n<p style="box-sizing: inherit\; margin: 0px\; color: rgb(94\, 94\, 94)\; font-family: Lora\, serif\; font-size: 21px\;"><span class="x-el x-el-span c1-74 c1-75 c1-b c1-c c1-d c1-e c1-f c1-g" style="box-sizing: inherit\; letter-spacing: unset\; text-transform: unset\;"><span class="x-el x-el-span c1-26 c1-27 c1-b c1-9f c1-2h c1-4p c1-9g" style="box-sizing: inherit\; letter-spacing: inherit\; text-transform: inherit\; color: inherit\; font-weight: 700\; line-height: inherit\; font-size: inherit !important\;">2 pm &nbsp\;&nbsp\;&nbsp\;&nbsp\;&nbsp\;&nbsp\;&nbsp\;&nbsp\;</span>4-H Rabbit Show &nbsp\;</span></p>\n\n<p style="box-sizing: inherit\; margin: 0px\; color: rgb(94\, 94\, 94)\; font-family: Lora\, serif\; font-size: 21px\;"><span class="x-el x-el-span c1-74 c1-75 c1-b c1-c c1-d c1-e c1-f c1-g" style="box-sizing: inherit\; letter-spacing: unset\; text-transform: unset\;"><span class="x-el x-el-span c1-26 c1-27 c1-b c1-9f c1-2h c1-4p c1-9g" style="box-sizing: inherit\; letter-spacing: inherit\; text-transform: inherit\; color: inherit\; font-weight: 700\; line-height: inherit\; font-size: inherit !important\;">2-6 pm &nbsp\;&nbsp\;&nbsp\;&nbsp\;</span>4-H Ambassador&#39\;s Petting Zoo</span></p>\n\n<p style="box-sizing: inherit\; margin: 0px\; color: rgb(94\, 94\, 94)\; font-family: Lora\, serif\; font-size: 21px\;"><span class="x-el x-el-span c1-74 c1-75 c1-b c1-c c1-d c1-e c1-f c1-g" style="box-sizing: inherit\; letter-spacing: unset\; text-transform: unset\;"><span class="x-el x-el-span c1-26 c1-27 c1-b c1-9f c1-2h c1-4p c1-9g" style="box-sizing: inherit\; letter-spacing: inherit\; text-transform: inherit\; color: inherit\; font-weight: 700\; line-height: inherit\; font-size: inherit !important\;">2-6 pm</span>&nbsp\;&nbsp\;&nbsp\;&nbsp\;&nbsp\;&nbsp\;Children&#39\;s Activities by Boys &amp\; Girls Club (Clover Hall)</span></p>\n\n<p style="box-sizing: inherit\; margin: 0px\; color: rgb(94\, 94\, 94)\; font-family: Lora\, serif\; font-size: 21px\;"><span class="x-el x-el-span c1-74 c1-75 c1-b c1-c c1-d c1-e c1-f c1-g" style="box-sizing: inherit\; letter-spacing: unset\; text-transform: unset\;"><span class="x-el x-el-span c1-26 c1-27 c1-b c1-9f c1-2h c1-4p c1-9g" style="box-sizing: inherit\; letter-spacing: inherit\; text-transform: inherit\; color: inherit\; font-weight: 700\; line-height: inherit\; font-size: inherit !important\;">3 pm&nbsp\;</span>&nbsp\;&nbsp\;&nbsp\;&nbsp\;&nbsp\;&nbsp\;&nbsp\;<a class="x-el x-el-a c1-26 c1-27 c1-9j c1-1m c1-1n c1-2z c1-w c1-71 c1-b c1-6u c1-2e c1-9p c1-9q" data-page="04a932e0-6f7a-4239-bdaf-aa775e0b1b8c" href="https://claycountyfair.net/animal-costume-contest" rel="" style="box-sizing: inherit\; background-color: transparent\; color: rgb(19\, 77\, 42)\; cursor: pointer\; overflow-wrap: break-word\; letter-spacing: inherit\; text-transform: inherit\; font-weight: inherit\; display: inline\; font-size: unset\;">Animal Costume Contest</a>&nbsp\;(Covered Arena)&nbsp\;</span></p>\n\n<p style="box-sizing: inherit\; margin: 0px\; color: rgb(94\, 94\, 94)\; font-family: Lora\, serif\; font-size: 21px\;"><span class="x-el x-el-span c1-74 c1-75 c1-b c1-c c1-d c1-e c1-f c1-g" style="box-sizing: inherit\; letter-spacing: unset\; text-transform: unset\;"><span class="x-el x-el-span c1-26 c1-27 c1-b c1-9f c1-2h c1-4p c1-9g" style="box-sizing: inherit\; letter-spacing: inherit\; text-transform: inherit\; color: inherit\; font-weight: 700\; line-height: inherit\; font-size: inherit !important\;">3-6 pm</span>&nbsp\;&nbsp\;&nbsp\;&nbsp\;&nbsp\;&nbsp\;USD Herpetology (Clover Hall)</span></p>\n\n<p style="box-sizing: inherit\; margin: 0px\; color: rgb(94\, 94\, 94)\; font-family: Lora\, serif\; font-size: 21px\;"><span class="x-el x-el-span c1-74 c1-75 c1-b c1-c c1-d c1-e c1-f c1-g" style="box-sizing: inherit\; letter-spacing: unset\; text-transform: unset\;"><span class="x-el x-el-span c1-26 c1-27 c1-b c1-9f c1-2h c1-4p c1-9g" style="box-sizing: inherit\; letter-spacing: inherit\; text-transform: inherit\; color: inherit\; font-weight: 700\; line-height: inherit\; font-size: inherit !important\;">3-12 am &nbsp\;&nbsp\;&nbsp\;</span>Beer Garden Tent</span></p>\n\n<p style="box-sizing: inherit\; margin: 0px\; color: rgb(94\, 94\, 94)\; font-family: Lora\, serif\; font-size: 21px\;"><span class="x-el x-el-span c1-74 c1-75 c1-b c1-c c1-d c1-e c1-f c1-g" style="box-sizing: inherit\; letter-spacing: unset\; text-transform: unset\;"><span class="x-el x-el-span c1-26 c1-27 c1-b c1-9f c1-2h c1-4p c1-9g" style="box-sizing: inherit\; letter-spacing: inherit\; text-transform: inherit\; color: inherit\; font-weight: 700\; line-height: inherit\; font-size: inherit !important\;">3:30 pm &nbsp\;&nbsp\;&nbsp\;</span>Barnyard Olympics Sign up</span></p>\n\n<p style="box-sizing: inherit\; margin: 0px\; color: rgb(94\, 94\, 94)\; font-family: Lora\, serif\; font-size: 21px\;"><span class="x-el x-el-span c1-74 c1-75 c1-b c1-c c1-d c1-e c1-f c1-g" style="box-sizing: inherit\; letter-spacing: unset\; text-transform: unset\;"><span class="x-el x-el-span c1-26 c1-27 c1-b c1-9f c1-2h c1-4p c1-9g" style="box-sizing: inherit\; letter-spacing: inherit\; text-transform: inherit\; color: inherit\; font-weight: 700\; line-height: inherit\; font-size: inherit !important\;">4 pm &nbsp\;&nbsp\;&nbsp\;&nbsp\;&nbsp\;&nbsp\;&nbsp\;&nbsp\;</span>Arena Beer Garden Opens</span></p>\n\n<p style="box-sizing: inherit\; margin: 0px\; color: rgb(94\, 94\, 94)\; font-family: Lora\, serif\; font-size: 21px\;"><span class="x-el x-el-span c1-74 c1-75 c1-b c1-c c1-d c1-e c1-f c1-g" style="box-sizing: inherit\; letter-spacing: unset\; text-transform: unset\;"><span class="x-el x-el-span c1-26 c1-27 c1-b c1-9f c1-2h c1-4p c1-9g" style="box-sizing: inherit\; letter-spacing: inherit\; text-transform: inherit\; color: inherit\; font-weight: 700\; line-height: inherit\; font-size: inherit !important\;">4:30 pm &nbsp\;&nbsp\;&nbsp\;</span><a class="x-el x-el-a c1-26 c1-27 c1-9j c1-1m c1-1n c1-2z c1-w c1-71 c1-b c1-6u c1-2e c1-9p c1-9q" data-page="6b116d9c-efd2-44a1-bcce-45c758388932" href="https://claycountyfair.net/barnyard-olympics" rel="" style="box-sizing: inherit\; background-color: transparent\; color: rgb(19\, 77\, 42)\; cursor: pointer\; overflow-wrap: break-word\; letter-spacing: inherit\; text-transform: inherit\; font-weight: inherit\; display: inline\; font-size: unset\;">Barnyard Olympics</a></span></p>\n\n<p style="box-sizing: inherit\; margin: 0px\; color: rgb(94\, 94\, 94)\; font-family: Lora\, serif\; font-size: 21px\;"><span class="x-el x-el-span c1-74 c1-75 c1-b c1-c c1-d c1-e c1-f c1-g" style="box-sizing: inherit\; letter-spacing: unset\; text-transform: unset\;"><span class="x-el x-el-span c1-26 c1-27 c1-b c1-9f c1-2h c1-4p c1-9g" style="box-sizing: inherit\; letter-spacing: inherit\; text-transform: inherit\; color: inherit\; font-weight: 700\; line-height: inherit\; font-size: inherit !important\;">5-7 pm</span>&nbsp\;&nbsp\;&nbsp\;&nbsp\;&nbsp\;&nbsp\;Highway Patrol Demonstration</span></p>\n\n<p style="box-sizing: inherit\; margin: 0px\; color: rgb(94\, 94\, 94)\; font-family: Lora\, serif\; font-size: 21px\;"><span class="x-el x-el-span c1-74 c1-75 c1-b c1-c c1-d c1-e c1-f c1-g" style="box-sizing: inherit\; letter-spacing: unset\; text-transform: unset\;"><span class="x-el x-el-span c1-26 c1-27 c1-b c1-9f c1-2h c1-4p c1-9g" style="box-sizing: inherit\; letter-spacing: inherit\; text-transform: inherit\; color: inherit\; font-weight: 700\; line-height: inherit\; font-size: inherit !important\;">5 pm &nbsp\;&nbsp\;&nbsp\;&nbsp\;&nbsp\;&nbsp\;&nbsp\;&nbsp\;</span>Ice Cream Social&nbsp\;</span></p>\n\n<p style="box-sizing: inherit\; margin: 0px\; color: rgb(94\, 94\, 94)\; font-family: Lora\, serif\; font-size: 21px\;"><span class="x-el x-el-span c1-74 c1-75 c1-b c1-c c1-d c1-e c1-f c1-g" style="box-sizing: inherit\; letter-spacing: unset\; text-transform: unset\;"><span class="x-el x-el-span c1-26 c1-27 c1-b c1-9f c1-2h c1-4p c1-9g" style="box-sizing: inherit\; letter-spacing: inherit\; text-transform: inherit\; color: inherit\; font-weight: 700\; line-height: inherit\; font-size: inherit !important\;">5-6:30 pm</span>&nbsp\;ATV Mud Drags Registration&nbsp\;</span></p>\n\n<p style="box-sizing: inherit\; margin: 0px\; color: rgb(94\, 94\, 94)\; font-family: Lora\, serif\; font-size: 21px\;"><span class="x-el x-el-span c1-74 c1-75 c1-b c1-c c1-d c1-e c1-f c1-g" style="box-sizing: inherit\; letter-spacing: unset\; text-transform: unset\;"><span class="x-el x-el-span c1-26 c1-27 c1-b c1-9f c1-2h c1-4p c1-9g" style="box-sizing: inherit\; letter-spacing: inherit\; text-transform: inherit\; color: inherit\; font-weight: 700\; line-height: inherit\; font-size: inherit !important\;">7 pm &nbsp\;</span>&nbsp\;&nbsp\;&nbsp\;&nbsp\;&nbsp\;&nbsp\;&nbsp\;&nbsp\;<a class="x-el x-el-a c1-26 c1-27 c1-9j c1-1m c1-1n c1-2z c1-w c1-71 c1-b c1-6u c1-2e c1-9p c1-9q" data-page="f674ea2c-2a85-4880-9a58-77ffe7ed5af5" href="https://claycountyfair.net/atv-mud-drags" rel="" style="box-sizing: inherit\; background-color: transparent\; color: rgb(19\, 77\, 42)\; cursor: pointer\; overflow-wrap: break-word\; letter-spacing: inherit\; text-transform: inherit\; font-weight: inherit\; display: inline\; font-size: unset\;">ATV Mud Drags</a>&nbsp\;(Open Arena)</span></p>\n\n<p style="box-sizing: inherit\; margin: 0px\; color: rgb(94\, 94\, 94)\; font-family: Lora\, serif\; font-size: 21px\;"><span class="x-el x-el-span c1-74 c1-75 c1-b c1-c c1-d c1-e c1-f c1-g" style="box-sizing: inherit\; letter-spacing: unset\; text-transform: unset\;"><span class="x-el x-el-span c1-26 c1-27 c1-b c1-9f c1-2h c1-4p c1-9g" style="box-sizing: inherit\; letter-spacing: inherit\; text-transform: inherit\; color: inherit\; font-weight: 700\; line-height: inherit\; font-size: inherit !important\;">8-12 am</span>&nbsp\;&nbsp\;&nbsp\;&nbsp\;&nbsp\;Street Dance featuring Leila&#39\;s Rose</span></p>\n
LOCATION:515 High Street\, Vermillion\, SD 57069
UID:e.2277.27375
SEQUENCE:3
DTSTAMP:20260425T181206Z
URL:https://chamber.livevermillion.com/events/details/clay-county-fair-27375
END:VEVENT

END:VCALENDAR
