BEGIN:VCALENDAR
VERSION:2.0
PRODID:-//ChamberMaster//Event Calendar 2.0//EN
METHOD:PUBLISH
X-PUBLISHED-TTL:P3D
REFRESH-INTERVAL:P3D
CALSCALE:GREGORIAN
BEGIN:VEVENT
DTSTART:20240510T163000Z
DTEND:20240510T180000Z
X-MICROSOFT-CDO-ALLDAYEVENT:FALSE
SUMMARY:Clean Slate Auto Spa Ribbon Cutting
DESCRIPTION:Please join us on Friday\, May 10th for a ribbon cutting to celebrate Clean Slate Auto Spa! Enjoy refreshments from 11:30am - 1:00pm. The public is welcome to attend the ribbon cutting ceremony at noon   .\n\n\n\nThe Lazy Susan food truck will be also be available for lunch from 11am - 2pm.  \n\n\n\nDuring the grand opening weekend\, Friday\, Saturday & Sunday\, May 10\, 11 & 12) if you download the Clean Slate Auto Spa app and purchase a car wash you will recieve $5 off an Ultimate wash and a $1 for every wash will go to the Vermillion Booster Club.
X-ALT-DESC;FMTTYPE=text/html:<span style="font-size:20px\;">Please join us on <strong>Friday\, May 10th</strong> for a ribbon cutting to celebrate <a href="https://www.facebook.com/people/Clean-Slate-Auto-Spa-LLC/61550850700402/?paipv=0&amp\;eav=AfacFdIOHrwlksp1ccDiM2eLkDiMsFeKoXsDrR4y_0I3v3pxt9HT6_kfCqDHRPTphSA&amp\;_rdr">Clean Slate Auto Spa</a>! Enjoy refreshments&nbsp\;from 11:30am - 1:00pm. The public is welcome to attend the ribbon cutting ceremony at noon </span><span style="color: rgb(77\, 81\, 86)\; font-family: Roboto\, arial\, sans-serif\; font-size: 14px\;">&#9986\;&#65039\;</span><span style="font-size:20px\;">.<br />\n<br />\n<a href="https://www.lazyhcampground.com/the-lazy-susan-food-truck-copy">The Lazy Susan</a> food truck will be also be available for lunch from 11am - 2pm.&nbsp\;&nbsp\;<br />\n<br />\nDuring the grand opening weekend\, Friday\, Saturday &amp\; Sunday\, May 10\, 11 &amp\; 12) if you download the Clean Slate Auto Spa app and purchase a car wash you will recieve $5 off an Ultimate wash and a $1 for every wash will go to the Vermillion Booster Club.&nbsp\;</span>
LOCATION:Clean Slate Auto Spa 921 E Cherry Street Vermillion\, SD 57069
UID:e.2277.27368
SEQUENCE:3
DTSTAMP:20260425T181351Z
URL:https://chamber.livevermillion.com/events/details/clean-slate-auto-spa-ribbon-cutting-27368
END:VEVENT

END:VCALENDAR
