BEGIN:VCALENDAR
VERSION:2.0
PRODID:-//ChamberMaster//Event Calendar 2.0//EN
METHOD:PUBLISH
X-PUBLISHED-TTL:P3D
REFRESH-INTERVAL:P3D
CALSCALE:GREGORIAN
BEGIN:VEVENT
DTSTART:20241106T150000Z
DTEND:20241106T160000Z
X-MICROSOFT-CDO-ALLDAYEVENT:FALSE
SUMMARY:Coffee & Conversation
DESCRIPTION:Join us for "Coffee & Conversation" with Timothy O'Keefe\, Dean of the Beacom School of Business\, for an update and information on Coyote Consulting!\n\nEnjoy free coffee with us\, network\, and start your day off right!
X-ALT-DESC;FMTTYPE=text/html:<div class="x11i5rnm xat24cr x1mh8g0r x1vvkbs xdj266r" style="margin: 0px\; overflow-wrap: break-word\; font-family: system-ui\, -apple-system\, BlinkMacSystemFont\, &quot\;.SFNSText-Regular&quot\;\, sans-serif\; caret-color: rgb(5\, 5\, 5)\; color: rgb(5\, 5\, 5)\; font-size: 15px\;"><span style="color: rgb(0\, 0\, 0)\;"><span style="font-size: 20px\;"><span style="font-family: &quot\;times new roman&quot\;\;">Join us for &quot\;Coffee &amp\; Conversation&quot\; with Timothy O&#39\;Keefe\, Dean of the Beacom School of Business\, for an update and information on Coyote Consulting!</span></span></span></div>\n\n<div class="x11i5rnm xat24cr x1mh8g0r x1vvkbs xtlvy1s" style="margin: 0.5em 0px 0px\; overflow-wrap: break-word\; font-family: system-ui\, -apple-system\, BlinkMacSystemFont\, &quot\;.SFNSText-Regular&quot\;\, sans-serif\; caret-color: rgb(5\, 5\, 5)\; color: rgb(5\, 5\, 5)\; font-size: 15px\;"><span style="color: rgb(0\, 0\, 0)\;"><span style="font-size: 20px\;"><span style="font-family: &quot\;times new roman&quot\;\;">Enjoy free coffee with us\, network\, and start your day off right!&nbsp\;</span></span></span></div>\n
LOCATION:McVicker Plaza 2 E. Main St. 1st floor boardroom
UID:e.2277.27473
SEQUENCE:3
DTSTAMP:20260426T031624Z
URL:https://chamber.livevermillion.com/events/details/coffee-conversation-27473
END:VEVENT

END:VCALENDAR
