BEGIN:VCALENDAR
VERSION:2.0
PRODID:-//ChamberMaster//Event Calendar 2.0//EN
METHOD:PUBLISH
X-PUBLISHED-TTL:P3D
REFRESH-INTERVAL:P3D
CALSCALE:GREGORIAN
BEGIN:VEVENT
DTSTART:20241204T150000Z
DTEND:20241204T160000Z
X-MICROSOFT-CDO-ALLDAYEVENT:FALSE
SUMMARY:Coffee & Conversation -- Headstart
DESCRIPTION:Join us for "Coffee & Conversation" with Amy Schweinle\, Dean and Professor of Educational Evaluation and Research\, for an update and information on USD's Headstart!\n\nEnjoy free coffee with us\, network\, and start your day off right!
X-ALT-DESC;FMTTYPE=text/html:<div class="x11i5rnm xat24cr x1mh8g0r x1vvkbs xdj266r" style="margin: 0px\; overflow-wrap: break-word\; font-family: system-ui\, -apple-system\, BlinkMacSystemFont\, &quot\;.SFNSText-Regular&quot\;\, sans-serif\; caret-color: rgb(5\, 5\, 5)\; color: rgb(5\, 5\, 5)\; font-size: 15px\;"><span style="font-size:20px\;"><span style="font-family:times new roman\;"><span style="color: rgb(0\, 0\, 0)\;">Join us for &quot\;Coffee &amp\; Conversation&quot\; with Amy Schweinle\, Dean&nbsp\;</span><span data-olk-copy-source="MessageBody" style="background-color: rgba(255\, 255\, 255\, 0)\;">and Professor of Educational Evaluation and Research</span><!--EndFragment--><span style="color: rgb(0\, 0\, 0)\;">\, for an update and information on USD&#39\;s Headstart!</span></span></span></div>\n\n<div class="x11i5rnm xat24cr x1mh8g0r x1vvkbs xtlvy1s" style="margin: 0.5em 0px 0px\; overflow-wrap: break-word\; font-family: system-ui\, -apple-system\, BlinkMacSystemFont\, &quot\;.SFNSText-Regular&quot\;\, sans-serif\; caret-color: rgb(5\, 5\, 5)\; color: rgb(5\, 5\, 5)\; font-size: 15px\;"><span style="font-size:20px\;"><span style="font-family:times new roman\;"><span style="color: rgb(0\, 0\, 0)\;">Enjoy free coffee with us\, network\, and start your day off right!&nbsp\;</span></span></span></div>\n
LOCATION:McVicker Plaza 2 E. Main St. 1st floor boardroom
UID:e.2277.27553
SEQUENCE:3
DTSTAMP:20260426T014320Z
URL:https://chamber.livevermillion.com/events/details/coffee-conversation-headstart-27553
END:VEVENT

END:VCALENDAR
