BEGIN:VCALENDAR
VERSION:2.0
PRODID:-//ChamberMaster//Event Calendar 2.0//EN
METHOD:PUBLISH
X-PUBLISHED-TTL:P3D
REFRESH-INTERVAL:P3D
CALSCALE:GREGORIAN
BEGIN:VEVENT
DTSTART:20220718T170000Z
DTEND:20220718T170000Z
X-MICROSOFT-CDO-ALLDAYEVENT:FALSE
SUMMARY:Dakota Hospital Foundation Annual Golf Social
DESCRIPTION:Join us for the Dakota Hospital Foundation Golf Social. Proceeds from the 2022 Golf Social will assist Dakota Hospital Foundation in funding its mission of dedication to community health and wellness.
X-ALT-DESC;FMTTYPE=text/html:Join us for the Dakota Hospital Foundation Golf Social. Proceeds from the 2022 Golf Social will assist Dakota Hospital Foundation in funding its mission of dedication to community health and wellness.&nbsp\;
LOCATION:The Bluffs Golf Course
UID:e.2277.24366
SEQUENCE:3
DTSTAMP:20260424T223538Z
URL:https://chamber.livevermillion.com/events/details/dakota-hospital-foundation-annual-golf-social-24366
END:VEVENT

END:VCALENDAR
