BEGIN:VCALENDAR
VERSION:2.0
PRODID:-//ChamberMaster//Event Calendar 2.0//EN
METHOD:PUBLISH
X-PUBLISHED-TTL:P3D
REFRESH-INTERVAL:P3D
CALSCALE:GREGORIAN
BEGIN:VEVENT
DTSTART:20241122T220000Z
DTEND:20241123T003000Z
X-MICROSOFT-CDO-ALLDAYEVENT:FALSE
SUMMARY:Doc's Bar Ribbon Cutting
DESCRIPTION:Join the VCDC in celebrating a ribbon cutting ceremony for the Vermillion's newest bar\, Doc's. Enjoy refreshments and an open house of their location.
X-ALT-DESC;FMTTYPE=text/html:Join the VCDC in celebrating a ribbon cutting ceremony for the Vermillion&#39\;s newest bar\, Doc&#39\;s. Enjoy refreshments and an open house of their location.
LOCATION:Doc's Bar 9 W Main
UID:e.2277.27572
SEQUENCE:3
DTSTAMP:20260426T032523Z
URL:https://chamber.livevermillion.com/events/details/doc-s-bar-ribbon-cutting-27572
END:VEVENT

END:VCALENDAR
