BEGIN:VCALENDAR
VERSION:2.0
PRODID:-//ChamberMaster//Event Calendar 2.0//EN
METHOD:PUBLISH
X-PUBLISHED-TTL:P3D
REFRESH-INTERVAL:P3D
CALSCALE:GREGORIAN
BEGIN:VEVENT
DTSTART:20260421T223000Z
DTEND:20260422T013000Z
X-MICROSOFT-CDO-ALLDAYEVENT:FALSE
SUMMARY:Down on Main Street: Part of Vermillion's Story Through Time
DESCRIPTION:Tuesday\, April 21\, 5:30 p.m.\, Coyote Twin Theater (10 E Main St)   Students in Dr. Crystal Sheedy's (Anthropology and Sociology) Ethnographic Methods class will present their community research projects. Throughout the semester\, students explored the histories and present-day experiences of three Main Street locations in Vermillion (i.e.\, The Bean\, Coyote Twin Theater\, and XIX Brewing Company) by examining archives and engaging with staff and patrons. Their work focuses on how people have experienced these spaces over time. This presentation is open to the public.
X-ALT-DESC;FMTTYPE=text/html:Tuesday\, April 21\, 5:30 p.m.\, Coyote Twin Theater (10 E Main St) &ndash\; Students in Dr. Crystal Sheedy&rsquo\;s (Anthropology and Sociology) Ethnographic Methods class will present their community research projects. Throughout the semester\, students explored the histories and present-day experiences of three Main Street locations in Vermillion (i.e.\, The Bean\, Coyote Twin Theater\, and XIX Brewing Company) by examining archives and engaging with staff and patrons. Their work focuses on how people have experienced these spaces over time. This presentation is open to the public.
LOCATION:Coyote Twin Theater 10 E Main Street
UID:e.2277.29671
SEQUENCE:3
DTSTAMP:20260423T090108Z
URL:https://chamber.livevermillion.com/events/details/down-on-main-street-part-of-vermillion-s-story-through-time-29671
END:VEVENT

END:VCALENDAR
