BEGIN:VCALENDAR
VERSION:2.0
PRODID:-//ChamberMaster//Event Calendar 2.0//EN
METHOD:PUBLISH
X-PUBLISHED-TTL:P3D
REFRESH-INTERVAL:P3D
CALSCALE:GREGORIAN
BEGIN:VEVENT
DTSTART:20250401T000000Z
DTEND:20250401T020000Z
X-MICROSOFT-CDO-ALLDAYEVENT:FALSE
SUMMARY:Fools 48 Film Festival
DESCRIPTION:The Fool's 48 Short Film Project is one of VCA's featured community events. Local teams have 48 hours to write\, film\, and edit a 4 7 minute film. This foolish undertaking is held over April Fool's weekend. To add a challenge\, each team draws a genre from a hat at the Friday evening kickoff event\, and all teams must incorporate the same line of dialogue\, prop\, and location. Monday night we host the Fool's 48 Film Showcase at the Coyote Twin Theater. It's always a blockbuster event!
X-ALT-DESC;FMTTYPE=text/html:<div class="xdj266r x11i5rnm xat24cr x1mh8g0r x1vvkbs x126k92a" style="margin: 0px\; overflow-wrap: break-word\; white-space-collapse: preserve\; font-family: system-ui\, -apple-system\, &quot\;system-ui&quot\;\, &quot\;.SFNSText-Regular&quot\;\, sans-serif\; color: rgb(8\, 8\, 9)\; font-size: 15px\;">\n<div dir="auto" style="font-family: inherit\;"><span style="color: rgba(26\, 26\, 26\, 0.7)\; font-family: halyard-display\; font-size: 16px\; letter-spacing: 0.8px\; white-space-collapse: preserve\;">The Fool&rsquo\;s 48 Short Film Project is one of VCA&rsquo\;s featured community events. Local teams have 48 hours to write\, film\, and edit a 4&ndash\;7 minute film. This </span><em style="overflow-wrap: break-word\; color: rgba(26\, 26\, 26\, 0.7)\; font-family: halyard-display\; font-size: 16px\; letter-spacing: 0.8px\; white-space-collapse: preserve\;">foolish</em><span style="color: rgba(26\, 26\, 26\, 0.7)\; font-family: halyard-display\; font-size: 16px\; letter-spacing: 0.8px\; white-space-collapse: preserve\;"> undertaking is held over April Fool&rsquo\;s weekend. To add a challenge\, each team draws a genre from a hat at the Friday evening kickoff event\, and all teams must incorporate the same line of dialogue\, prop\, and location. Monday night we host the Fool&rsquo\;s 48 Film Showcase at the Coyote Twin Theater. It&rsquo\;s always a blockbuster event!</span></div>\n</div>\n
LOCATION:Coyote Twin Theater 10 E. Main St. Vermillion SD
UID:e.2277.27865
SEQUENCE:3
DTSTAMP:20260426T031135Z
URL:https://chamber.livevermillion.com/events/details/fools-48-film-festival-27865
END:VEVENT

END:VCALENDAR
