BEGIN:VCALENDAR
VERSION:2.0
PRODID:-//ChamberMaster//Event Calendar 2.0//EN
METHOD:PUBLISH
X-PUBLISHED-TTL:P3D
REFRESH-INTERVAL:P3D
CALSCALE:GREGORIAN
BEGIN:VEVENT
DTSTART:20241212T010000Z
DTEND:20241212T040000Z
X-MICROSOFT-CDO-ALLDAYEVENT:FALSE
SUMMARY:Free Showing: A Christmas Story
DESCRIPTION:Free showing of A Christmas Story\, to get into the holiday spirit! Bring the whole family. Brought to you by the VCDC & Knutson Dentistry!
X-ALT-DESC;FMTTYPE=text/html:Free showing of A Christmas Story\, to get into the holiday spirit! Bring the whole family. Brought to you by the VCDC &amp\; Knutson Dentistry!
LOCATION:Coyote Twin Theater
UID:e.2277.27562
SEQUENCE:3
DTSTAMP:20260426T014748Z
URL:https://chamber.livevermillion.com/events/details/free-showing-a-christmas-story-27562
END:VEVENT

END:VCALENDAR
