BEGIN:VCALENDAR
VERSION:2.0
PRODID:-//ChamberMaster//Event Calendar 2.0//EN
METHOD:PUBLISH
X-PUBLISHED-TTL:P3D
REFRESH-INTERVAL:P3D
CALSCALE:GREGORIAN
BEGIN:VEVENT
DTSTART:20241219T010000Z
DTEND:20241219T040000Z
X-MICROSOFT-CDO-ALLDAYEVENT:FALSE
SUMMARY:Free Showing: Krampus
DESCRIPTION:Free showing of Krampus (2015)\, if you're looking for a holiday thrill! Brought to you by the VCDC & Sanford Vermillion!
X-ALT-DESC;FMTTYPE=text/html:Free showing of Krampus (2015)\, if you&#39\;re looking for a holiday thrill! Brought to you by the VCDC &amp\; Sanford Vermillion!
LOCATION:Coyote Twin Theater
UID:e.2277.27563
SEQUENCE:3
DTSTAMP:20260426T015833Z
URL:https://chamber.livevermillion.com/events/details/free-showing-krampus-27563
END:VEVENT

END:VCALENDAR
