BEGIN:VCALENDAR
VERSION:2.0
PRODID:-//ChamberMaster//Event Calendar 2.0//EN
METHOD:PUBLISH
X-PUBLISHED-TTL:P3D
REFRESH-INTERVAL:P3D
CALSCALE:GREGORIAN
BEGIN:VEVENT
DTSTART:20241205T010000Z
DTEND:20241205T040000Z
X-MICROSOFT-CDO-ALLDAYEVENT:FALSE
SUMMARY:Free Showing: The Grinch
DESCRIPTION:Free showing of The Grinch\, to get into the holiday spirit! Bring the whole family. Brought to you by Vermillion NEXT
X-ALT-DESC;FMTTYPE=text/html:Free showing of The Grinch\, to get into the holiday spirit! Bring the whole family. Brought to you by Vermillion NEXT
LOCATION:Coyote Twin Theater
UID:e.2277.27561
SEQUENCE:3
DTSTAMP:20260426T014614Z
URL:https://chamber.livevermillion.com/events/details/free-showing-the-grinch-27561
END:VEVENT

END:VCALENDAR
