BEGIN:VCALENDAR
VERSION:2.0
PRODID:-//ChamberMaster//Event Calendar 2.0//EN
METHOD:PUBLISH
X-PUBLISHED-TTL:P3D
REFRESH-INTERVAL:P3D
CALSCALE:GREGORIAN
BEGIN:VEVENT
DTSTART:20220326T170000Z
DTEND:20220326T210000Z
X-MICROSOFT-CDO-ALLDAYEVENT:FALSE
SUMMARY:Free Wellness Clinic
DESCRIPTION:Free wellness clinic open to Vermillion Community. Screenings Provided: Blood glucose\, blood Pressure\, Cholesterol\, ASCVD Risk. Screenings provided by students from SDSU College of Pharmacy and Allied Health. Sponsored by USD AWOL and SCAPP
X-ALT-DESC;FMTTYPE=text/html:Free wellness clinic open to Vermillion Community. Screenings Provided: Blood glucose\, blood Pressure\, Cholesterol\, ASCVD Risk. Screenings provided by students from SDSU College of Pharmacy and Allied Health. Sponsored by USD AWOL and SCAPP
LOCATION:University of South Dakota Muenster University Center Room 216
UID:e.2277.24368
SEQUENCE:3
DTSTAMP:20260424T175246Z
URL:https://chamber.livevermillion.com/events/details/free-wellness-clinic-24368
END:VEVENT

END:VCALENDAR
