BEGIN:VCALENDAR
VERSION:2.0
PRODID:-//ChamberMaster//Event Calendar 2.0//EN
METHOD:PUBLISH
X-PUBLISHED-TTL:P3D
REFRESH-INTERVAL:P3D
CALSCALE:GREGORIAN
BEGIN:VEVENT
DTSTART:20230205T000000Z
DTEND:20230205T030000Z
X-MICROSOFT-CDO-ALLDAYEVENT:FALSE
SUMMARY:Game Night: B-Movies
DESCRIPTION:Players wanted!\n\nCome check out game night at Outside of a Dog Books & Games! They'll be playing B-Movies. Learn the game\, play for free! 10% off if you purchase.
X-ALT-DESC;FMTTYPE=text/html:<span style="font-size:18px\;"><span style="font-family:times new roman\;"><strong>Players wanted!</strong><br />\nCome check out game night at Outside of a Dog Books &amp\; Games! They&#39\;ll be playing B-Movies.&nbsp\;Learn the game\, play for free! 10% off if you purchase.&nbsp\;</span></span>
LOCATION:5 Court St. Vermillion\, SD 57069
UID:e.2277.24960
SEQUENCE:3
DTSTAMP:20260425T120302Z
URL:https://chamber.livevermillion.com/events/details/game-night-b-movies-24960
END:VEVENT

END:VCALENDAR
