BEGIN:VCALENDAR
VERSION:2.0
PRODID:-//ChamberMaster//Event Calendar 2.0//EN
METHOD:PUBLISH
X-PUBLISHED-TTL:P3D
REFRESH-INTERVAL:P3D
CALSCALE:GREGORIAN
BEGIN:VEVENT
DTSTART:20230502T163000Z
DTEND:20230502T170000Z
X-MICROSOFT-CDO-ALLDAYEVENT:FALSE
SUMMARY:Goodwill Groundbreaking
DESCRIPTION:Join us on Tuesday\, May 2nd at 700 Bower St. in Vermillion for the Goodwill Groundbreaking Ceremony! \nThey will begin construction of a new location right here in our community and are projecting that they will be open for business in Q1 of 2024.\n\nThe ceremony will begin at 11:30 a.m. and the public is invited to join the celebration.
X-ALT-DESC;FMTTYPE=text/html:<span style="font-size:20px\;"><span style="color: rgb(5\, 5\, 5)\; font-family: &quot\;Segoe UI Historic&quot\;\, &quot\;Segoe UI&quot\;\, Helvetica\, Arial\, sans-serif\;">Join us on <strong>Tuesday\, May 2nd</strong> at 700 Bower St. in Vermillion for the Goodwill Groundbreaking Ceremony!&nbsp\;</span></span>\n<div class="xdj266r x11i5rnm xat24cr x1mh8g0r x1vvkbs" style="margin: 0px\; overflow-wrap: break-word\; font-family: &quot\;Segoe UI Historic&quot\;\, &quot\;Segoe UI&quot\;\, Helvetica\, Arial\, sans-serif\; color: rgb(5\, 5\, 5)\; font-size: 15px\;"><span style="font-size:20px\;">They will begin construction of a new location right here in our community and are projecting that they will be open for business in Q1 of 2024.</span></div>\n\n<div class="x11i5rnm xat24cr x1mh8g0r x1vvkbs xtlvy1s" style="margin: 0.5em 0px 0px\; overflow-wrap: break-word\; font-family: &quot\;Segoe UI Historic&quot\;\, &quot\;Segoe UI&quot\;\, Helvetica\, Arial\, sans-serif\; color: rgb(5\, 5\, 5)\; font-size: 15px\;"><span style="font-size:20px\;">The ceremony will begin at 11:30 a.m. and the public is invited to join the celebration.</span></div>\n
LOCATION:700 Bower Street\, Vermillion\, SD
UID:e.2277.25569
SEQUENCE:3
DTSTAMP:20260425T174435Z
URL:https://chamber.livevermillion.com/events/details/goodwill-groundbreaking-25569
END:VEVENT

END:VCALENDAR
