BEGIN:VCALENDAR
VERSION:2.0
PRODID:-//ChamberMaster//Event Calendar 2.0//EN
METHOD:PUBLISH
X-PUBLISHED-TTL:P3D
REFRESH-INTERVAL:P3D
CALSCALE:GREGORIAN
BEGIN:VEVENT
DTSTART:20230425T140000Z
DTEND:20230425T200000Z
X-MICROSOFT-CDO-ALLDAYEVENT:FALSE
SUMMARY:GPAC Men's Conference Golf Tournament
DESCRIPTION:GPAC\n\n\n\nMonday\, April 24\, 2023\, 09:00am - 03:00pm\; 9:30 shotgun
X-ALT-DESC;FMTTYPE=text/html:<div class="jev_evdt_header" style="font-size: 16px\; width: 1180px\; max-width: 100%\; border: none\; line-height: 1.5em\; caret-color: rgb(102\, 102\, 102)\; color: rgb(102\, 102\, 102)\; font-family: Roboto\;">\n<div class="jev_evdt_title" style="font-size: 25.600000381469727px\; padding-bottom: 10px\; border: none\; line-height: 1.5em\;"><span style="color:#000000\;"><span style="font-size:20px\;"><span style="font-family:times new roman\;">GPAC</span></span></span></div>\n</div>\n\n<div class="jev_eventdetails_body" style="font-size: 16px\; border: none\; line-height: 1.5em\; caret-color: rgb(102\, 102\, 102)\; color: rgb(102\, 102\, 102)\; font-family: Roboto\;">\n<div class="jev_evdt_summary" style="width: 885px\; display: inline-block\; padding-bottom: 10px\; vertical-align: top\; border: none\; line-height: 1.5em\;"><span style="color:#000000\;"><span style="font-size:20px\;"><span style="font-family:times new roman\;">Monday\, April 24\, 2023\,&nbsp\;09:00am&nbsp\;-&nbsp\;03:00pm\;&nbsp\;9:30 shotgun</span></span></span></div>\n</div>\n
LOCATION:The Bluffs Golf Course Vermillion\, SD 57069
UID:e.2277.25567
SEQUENCE:3
DTSTAMP:20260425T154338Z
URL:https://chamber.livevermillion.com/events/details/gpac-men-s-conference-golf-tournament-25567
END:VEVENT

END:VCALENDAR
