BEGIN:VCALENDAR
VERSION:2.0
PRODID:-//ChamberMaster//Event Calendar 2.0//EN
METHOD:PUBLISH
X-PUBLISHED-TTL:P3D
REFRESH-INTERVAL:P3D
CALSCALE:GREGORIAN
BEGIN:VEVENT
DTSTART:20241119T230000Z
DTEND:20241120T010000Z
X-MICROSOFT-CDO-ALLDAYEVENT:FALSE
SUMMARY:Harvest Celebration
DESCRIPTION:Please join the VCDC in conjunction with the South Dakota Farm Bureau to celebrate the Harvest Season in the greater Vermillion Area.\n\nThis year\, we will be recognizing recent Friends of Agriculture winners\, Heine Hybrid Seed Corn (2021) and Olson Sod Farms\, LLC (2023).\n\nEnjoy a Salad and Pizza Buffet and beverages provided by Old Lumber Company
X-ALT-DESC;FMTTYPE=text/html:Please join the VCDC in conjunction with the South Dakota Farm Bureau to celebrate the Harvest Season in the greater Vermillion Area.<br />\nThis year\, we will be recognizing recent Friends of Agriculture winners\, Heine Hybrid Seed Corn (2021) and Olson Sod Farms\, LLC (2023).<br />\nEnjoy a Salad and Pizza Buffet and beverages provided by Old Lumber Company
LOCATION:Old Lumber Company 2nd Floor Banquet Room 15 Court Street Vermillion\, SD 57069
UID:e.2277.27558
SEQUENCE:3
DTSTAMP:20260426T031809Z
URL:https://chamber.livevermillion.com/events/details/harvest-celebration-27558
END:VEVENT

END:VCALENDAR
