BEGIN:VCALENDAR
VERSION:2.0
PRODID:-//ChamberMaster//Event Calendar 2.0//EN
METHOD:PUBLISH
X-PUBLISHED-TTL:P3D
REFRESH-INTERVAL:P3D
CALSCALE:GREGORIAN
BEGIN:VEVENT
DTSTART:20220725T170000Z
DTEND:20220725T180000Z
X-MICROSOFT-CDO-ALLDAYEVENT:FALSE
SUMMARY:Healthy Credit Habits
DESCRIPTION:Credit 101\n\nHow exactly does it work?\n\nHow do you look at your credit report?\n\nWhat is the FICO Score and how does it impact your life?\n\nHow do you build or rebuild your credit?
X-ALT-DESC;FMTTYPE=text/html:Credit 101<br />\nHow exactly does it work?<br />\nHow do you look at your credit report?<br />\nWhat is the FICO Score and how does it impact your life?<br />\nHow do you build or rebuild your credit?
LOCATION:Register here: https://lsssd.zoom.us/meeting/register/tZErf-isqDkqG927kPbEUHw8NrA1BnhnoB2W
UID:e.2277.24526
SEQUENCE:3
DTSTAMP:20260425T001942Z
URL:https://chamber.livevermillion.com/events/details/healthy-credit-habits-24526
END:VEVENT

END:VCALENDAR
