BEGIN:VCALENDAR
VERSION:2.0
PRODID:-//ChamberMaster//Event Calendar 2.0//EN
METHOD:PUBLISH
X-PUBLISHED-TTL:P3D
REFRESH-INTERVAL:P3D
CALSCALE:GREGORIAN
BEGIN:VEVENT
DTSTART:20241108T220000Z
DTEND:20241109T000000Z
X-MICROSOFT-CDO-ALLDAYEVENT:FALSE
SUMMARY:Hocoka Indigenous Market Ribbon Cutting
DESCRIPTION:Join the VCDC in celebrating Hocoka on their new location. Enjoy a ribbon cutting ceremony\, refreshments and support local business!\n\n\n\nOur Indigenous Market is a growing cultural based shop that celebrates the culture\, tradition and beauty of Indigenous people from all seven directions. Our mission is to provide a platform for Indigenous artisans and creators to showcase and share their unique creations with the world. We are committed to honoring the traditional Indigenous values of self-determination\, reciprocity\, respect and responsibility. We strive to provide a safe\, inclusive and equitable space for our Indigenous communities to come together and celebrate the richness of their culture with the world.
X-ALT-DESC;FMTTYPE=text/html:<span style="font-size:14px\;">Join the VCDC in celebrating Hocoka on their new location.&nbsp\;<span style="font-family: &quot\;Segoe UI Historic&quot\;\, &quot\;Segoe UI&quot\;\, Helvetica\, Arial\, sans-serif\; text-align: center\;">Enjoy a ribbon cutting ceremony\, refreshments and support local business!</span></span><br />\n<br />\n<span style="font-family: &quot\;playfair display&quot\;\, serif\; font-size: 15px\;">Our Indigenous Market is a growing cultural based shop that celebrates the culture\, tradition and beauty of Indigenous people from all seven directions. Our mission is to provide a platform for Indigenous artisans and creators to showcase and share their unique creations with the world. We are committed to honoring the traditional Indigenous values of self-determination\, reciprocity\, respect and responsibility. We strive to provide a safe\, inclusive and equitable space for our Indigenous communities to come together and celebrate the richness of their culture with the world.</span>
LOCATION:11 Elm st Vermillion SD
UID:e.2277.27548
SEQUENCE:3
DTSTAMP:20260426T032756Z
URL:https://chamber.livevermillion.com/events/details/hocoka-indigenous-market-ribbon-cutting-27548
END:VEVENT

END:VCALENDAR
