BEGIN:VCALENDAR
VERSION:2.0
PRODID:-//ChamberMaster//Event Calendar 2.0//EN
METHOD:PUBLISH
X-PUBLISHED-TTL:P3D
REFRESH-INTERVAL:P3D
CALSCALE:GREGORIAN
BEGIN:VEVENT
DTSTART:20230712T130000Z
DTEND:20230712T140000Z
X-MICROSOFT-CDO-ALLDAYEVENT:FALSE
SUMMARY:Housing Discussion & Coffee with Jim Peterson
DESCRIPTION:Join the VCDC for free coffee and a discussion about the state of housing in Vermillion with VCDC CEO Jim Peterson
X-ALT-DESC;FMTTYPE=text/html:Join the VCDC for free coffee and a discussion about the state of housing in Vermillion with VCDC CEO Jim Peterson
LOCATION:McVicker Plaza\, 2nd Floor
UID:e.2277.25766
SEQUENCE:3
DTSTAMP:20260425T231006Z
URL:https://chamber.livevermillion.com/events/details/housing-discussion-coffee-with-jim-peterson-25766
END:VEVENT

END:VCALENDAR
