BEGIN:VCALENDAR
VERSION:2.0
PRODID:-//ChamberMaster//Event Calendar 2.0//EN
METHOD:PUBLISH
X-PUBLISHED-TTL:P3D
REFRESH-INTERVAL:P3D
CALSCALE:GREGORIAN
BEGIN:VEVENT
DTSTART:20230414T170000Z
DTEND:20230414T220000Z
X-MICROSOFT-CDO-ALLDAYEVENT:FALSE
SUMMARY:i2i: Invent to Innovate Business Model Competition
DESCRIPTION:The i2i Business Model Competition helps make your business concept a reality!\n \n\nThe i2i Business Model Competition offers university and high school students the chance to win funding for their business ideas. The competition assists aspiring entrepreneurs in the new approach to launching companies\, will help them become a more successful entrepreneur and decrease the time it takes for them to reach that success.\n\nHave an idea that needs to be taken to the next level?\n\n\n	Transform your idea into reality\n	Win cash prizes to invest into your business concept\n	Get feedback from business leaders and investors\n\n\nSubmission Deadline: Friday\, March 10\n\n2023 i2i Live Virtual Competition: Friday\, April 14\n\n\n\nHigh School Division\n\n\n	First Place: $1000\n	Second Place: $750\n	Third Place: $500\n	Plus additional prizes\n\n\nUniversity Division\n\n\n	First Place: $2000\n	Second Place: $1500\n	Third Place: $1000\n	Plus additional prizes
X-ALT-DESC;FMTTYPE=text/html:<h2 style="box-sizing: border-box\; z-index: 1\; font-family: myriad-pro-condensed\, sans-serif\; font-size: 3rem\; font-weight: 600\; line-height: 1.1\; margin-bottom: 0px\; caret-color: rgb(0\, 0\, 0)\; color: rgb(0\, 0\, 0)\;"><span style="color:#000000\;"><span style="font-size:20px\;"><span style="font-family:times new roman\;">The i2i Business Model Competition helps make your business concept a reality!</span></span></span></h2>\n&nbsp\;\n\n<p style="box-sizing: border-box\; z-index: 1\; caret-color: rgb(0\, 0\, 0)\; color: rgb(0\, 0\, 0)\; font-family: myriad-pro\, sans-serif\; font-size: 18px\;"><span style="color:#000000\;"><span style="font-size:20px\;"><span style="font-family:times new roman\;">The i2i Business Model Competition offers university and high school students the chance to win funding for their business ideas. The competition assists aspiring entrepreneurs in the new approach to launching companies\, will help them become a more successful entrepreneur and decrease the time it takes for them to reach that success.</span></span></span></p>\n\n<h4 style="box-sizing: border-box\; z-index: 1\; font-family: myriad-pro\, sans-serif\; font-size: 1.5rem\; font-weight: 700\; margin-top: 0.5rem\; margin-bottom: 0.5rem\; caret-color: rgb(0\, 0\, 0)\; color: rgb(0\, 0\, 0)\;"><span style="color:#000000\;"><span style="font-size:20px\;"><span style="font-family:times new roman\;">Have an idea that needs to be taken to the next level?</span></span></span></h4>\n\n<ul style="box-sizing: border-box\; z-index: 1\; margin: 0px 0px 0px 40px\; padding-right: 0px\; padding-left: 0px\; caret-color: rgb(0\, 0\, 0)\; color: rgb(0\, 0\, 0)\; font-family: myriad-pro\, sans-serif\; font-size: 18px\;">\n	<li style="box-sizing: border-box\; z-index: 1\; margin: 0px\; padding: 0px\;"><span style="color:#000000\;"><span style="font-size:20px\;"><span style="font-family:times new roman\;">Transform your idea into reality</span></span></span></li>\n	<li style="box-sizing: border-box\; z-index: 1\; margin: 0px\; padding: 0px\;"><span style="color:#000000\;"><span style="font-size:20px\;"><span style="font-family:times new roman\;">Win cash prizes to invest into your business concept</span></span></span></li>\n	<li style="box-sizing: border-box\; z-index: 1\; margin: 0px\; padding: 0px\;"><span style="color:#000000\;"><span style="font-size:20px\;"><span style="font-family:times new roman\;">Get feedback from business leaders and investors</span></span></span></li>\n</ul>\n\n<p style="box-sizing: border-box\; z-index: 1\; caret-color: rgb(0\, 0\, 0)\; color: rgb(0\, 0\, 0)\; font-family: myriad-pro\, sans-serif\; font-size: 18px\;"><span style="color:#ba0c2f\;"><span style="font-size:20px\;"><span style="font-family:times new roman\;"><span style="box-sizing: border-box\; z-index: 1\; font-weight: 700\;">Submission Deadline: Friday\, March 10</span></span></span></span></p>\n\n<p style="box-sizing: border-box\; z-index: 1\; caret-color: rgb(0\, 0\, 0)\; color: rgb(0\, 0\, 0)\; font-family: myriad-pro\, sans-serif\; font-size: 18px\;"><span style="color:#ba0c2f\;"><span style="font-size:20px\;"><span style="font-family:times new roman\;"><span style="box-sizing: border-box\; z-index: 1\; font-weight: 700\;">2023 i2i Live Virtual Competition: Friday\, April 14</span></span></span></span><br />\n<br style="box-sizing: border-box\; z-index: 1\;" />\n<span style="color:#000000\;"><span style="font-size:20px\;"><span style="font-family:times new roman\;"><span style="box-sizing: border-box\; z-index: 1\; font-weight: 700\;">High School Division</span></span></span></span></p>\n\n<ul style="box-sizing: border-box\; z-index: 1\; margin: 0px 0px 0px 40px\; padding-right: 0px\; padding-left: 0px\; caret-color: rgb(0\, 0\, 0)\; color: rgb(0\, 0\, 0)\; font-family: myriad-pro\, sans-serif\; font-size: 18px\;">\n	<li style="box-sizing: border-box\; z-index: 1\; margin: 0px\; padding: 0px\;"><span style="color:#000000\;"><span style="font-size:20px\;"><span style="font-family:times new roman\;">First Place: $1000</span></span></span></li>\n	<li style="box-sizing: border-box\; z-index: 1\; margin: 0px\; padding: 0px\;"><span style="color:#000000\;"><span style="font-size:20px\;"><span style="font-family:times new roman\;">Second Place: $750</span></span></span></li>\n	<li style="box-sizing: border-box\; z-index: 1\; margin: 0px\; padding: 0px\;"><span style="color:#000000\;"><span style="font-size:20px\;"><span style="font-family:times new roman\;">Third Place: $500</span></span></span></li>\n	<li style="box-sizing: border-box\; z-index: 1\; margin: 0px\; padding: 0px\;"><span style="color:#000000\;"><span style="font-size:20px\;"><span style="font-family:times new roman\;">Plus additional prizes</span></span></span></li>\n</ul>\n\n<p style="box-sizing: border-box\; z-index: 1\; caret-color: rgb(0\, 0\, 0)\; color: rgb(0\, 0\, 0)\; font-family: myriad-pro\, sans-serif\; font-size: 18px\;"><span style="color:#000000\;"><span style="font-size:20px\;"><span style="font-family:times new roman\;"><span style="box-sizing: border-box\; z-index: 1\; font-weight: 700\;">University Division</span></span></span></span></p>\n\n<ul style="box-sizing: border-box\; z-index: 1\; margin: 0px 0px 0px 40px\; padding-right: 0px\; padding-left: 0px\; caret-color: rgb(0\, 0\, 0)\; color: rgb(0\, 0\, 0)\; font-family: myriad-pro\, sans-serif\; font-size: 18px\;">\n	<li style="box-sizing: border-box\; z-index: 1\; margin: 0px\; padding: 0px\;"><span style="color:#000000\;"><span style="font-size:20px\;"><span style="font-family:times new roman\;">First Place: $2000</span></span></span></li>\n	<li style="box-sizing: border-box\; z-index: 1\; margin: 0px\; padding: 0px\;"><span style="color:#000000\;"><span style="font-size:20px\;"><span style="font-family:times new roman\;">Second Place: $1500</span></span></span></li>\n	<li style="box-sizing: border-box\; z-index: 1\; margin: 0px\; padding: 0px\;"><span style="color:#000000\;"><span style="font-size:20px\;"><span style="font-family:times new roman\;">Third Place: $1000</span></span></span></li>\n	<li style="box-sizing: border-box\; z-index: 1\; margin: 0px\; padding: 0px\;"><span style="color:#000000\;"><span style="font-size:20px\;"><span style="font-family:times new roman\;">Plus additional prizes</span></span></span></li>\n</ul>\n
LOCATION:USD Beacom Hall
UID:e.2277.25465
SEQUENCE:3
DTSTAMP:20260425T155646Z
URL:https://chamber.livevermillion.com/events/details/i2i-invent-to-innovate-business-model-competition-25465
END:VEVENT

END:VCALENDAR
