BEGIN:VCALENDAR
VERSION:2.0
PRODID:-//ChamberMaster//Event Calendar 2.0//EN
METHOD:PUBLISH
X-PUBLISHED-TTL:P3D
REFRESH-INTERVAL:P3D
CALSCALE:GREGORIAN
BEGIN:VEVENT
DTSTART:20230425T220000Z
DTEND:20230425T230000Z
X-MICROSOFT-CDO-ALLDAYEVENT:FALSE
SUMMARY:"Igniting the Spark Within You" with Kristen Hadeed
DESCRIPTION:Beacom School of Business presents: First Year Experience\n\n\n\nKristen Hadeed\n\nIgniting the Spark Within You\n\n	Explore four key elements that will be critical as we look to the future - Passion\, Growth\, Freedom\, and Belonging.\n	Identify the mindsets\, approaches\, and mentalities that need to shift in order to thrive in the future. \n	Learn how to cultivate your inner spark and keep it burning bright.\n\nAbout Kristen Hadeed:\n\nKristen Hadeed believes that authentic\, human leadership can change\n\nthe world. At 19\, with hardly any leadership experience\, Kristen started\n\na cleaning business called Student Maid as a side gig in college. Before\n\ngraduating\, it scaled to a contract to clean hundreds of apartments.\n\nAt the time\, she hired a team of 60 people to help her\, and within\n\ndays\, 75% of that team quit\, leading her to obsess over the topic of\n\nleadership. 14 years later\, Student Made has grown to a global scale\n\nwhile Kristen has worked in every industry\, has been featured in major\n\nnews outlets such as PBS\, FOX\, Inc.\, NBC\, TIME\, and Forbes\, sold more\n\nthan 40\,000 copies worldwide as a thought leadership author and\n\nhas TED Talks with millions of views. All of her success comes down to\n\none thing: her passion about belonging\, courageous\, compassionate\n\nleadership and the urge to pass it along.\n\n\n\nwww.kristenhadeed.com
X-ALT-DESC;FMTTYPE=text/html:<span style="color:#000000\;"><span style="font-size:20px\;"><span style="font-family:times new roman\;"><u>Beacom School of Business presents: First Year Experience</u><br />\n<br />\n<strong>Kristen Hadeed</strong><br />\n<em>Igniting the Spark Within You</em></span></span></span>\n<ul>\n	<li><span style="color:#000000\;"><span style="font-size:20px\;"><span style="font-family:times new roman\;">Explore four key elements that will be critical as we look to the future - Passion\, Growth\, Freedom\, and Belonging.</span></span></span></li>\n	<li><span style="color:#000000\;"><span style="font-size:20px\;"><span style="font-family:times new roman\;">Identify the mindsets\, approaches\, and mentalities that need to shift in order to thrive in the future.&nbsp\;</span></span></span></li>\n	<li><span style="color:#000000\;"><span style="font-size:20px\;"><span style="font-family:times new roman\;">Learn how to cultivate your inner spark and keep it burning bright.</span></span></span></li>\n</ul>\n<span style="font-size:20px\;"><span style="font-family:times new roman\;"><strong><span style="color:#000000\;"><i>About Kristen Hadeed:</i></span></strong></span></span>\n\n<p style="margin: 0px\; font-stretch: normal\; font-size: 30px\; line-height: normal\; font-family: Helvetica\; color: rgb(255\, 255\, 255)\;"><span style="font-size:20px\;"><span style="font-family:times new roman\;"><span style="color:#000000\;">Kristen Hadeed believes that authentic\, human leadership can change</span></span></span></p>\n\n<p style="margin: 0px\; font-stretch: normal\; font-size: 30px\; line-height: normal\; font-family: Helvetica\; color: rgb(255\, 255\, 255)\;"><span style="font-size:20px\;"><span style="font-family:times new roman\;"><span style="color:#000000\;">the world. At 19\, with hardly any leadership experience\, Kristen started</span></span></span></p>\n\n<p style="margin: 0px\; font-stretch: normal\; font-size: 30px\; line-height: normal\; font-family: Helvetica\; color: rgb(255\, 255\, 255)\;"><span style="font-size:20px\;"><span style="font-family:times new roman\;"><span style="color:#000000\;">a cleaning business called Student Maid as a side gig in college. Before</span></span></span></p>\n\n<p style="margin: 0px\; font-stretch: normal\; font-size: 30px\; line-height: normal\; font-family: Helvetica\; color: rgb(255\, 255\, 255)\;"><span style="font-size:20px\;"><span style="font-family:times new roman\;"><span style="color:#000000\;">graduating\, it scaled to a contract to clean hundreds of apartments.</span></span></span></p>\n\n<p style="margin: 0px\; font-stretch: normal\; font-size: 30px\; line-height: normal\; font-family: Helvetica\; color: rgb(255\, 255\, 255)\;"><span style="font-size:20px\;"><span style="font-family:times new roman\;"><span style="color:#000000\;">At the time\, she hired a team of 60 people to help her\, and within</span></span></span></p>\n\n<p style="margin: 0px\; font-stretch: normal\; font-size: 30px\; line-height: normal\; font-family: Helvetica\; color: rgb(255\, 255\, 255)\;"><span style="font-size:20px\;"><span style="font-family:times new roman\;"><span style="color:#000000\;">days\, 75% of that team quit\, leading her to obsess over the topic of</span></span></span></p>\n\n<p style="margin: 0px\; font-stretch: normal\; font-size: 30px\; line-height: normal\; font-family: Helvetica\; color: rgb(255\, 255\, 255)\;"><span style="font-size:20px\;"><span style="font-family:times new roman\;"><span style="color:#000000\;">leadership. 14 years later\, Student Made has grown to a global scale</span></span></span></p>\n\n<p style="margin: 0px\; font-stretch: normal\; font-size: 30px\; line-height: normal\; font-family: Helvetica\; color: rgb(255\, 255\, 255)\;"><span style="font-size:20px\;"><span style="font-family:times new roman\;"><span style="color:#000000\;">while Kristen has worked in every industry\, has been featured in major</span></span></span></p>\n\n<p style="margin: 0px\; font-stretch: normal\; font-size: 30px\; line-height: normal\; font-family: Helvetica\; color: rgb(255\, 255\, 255)\;"><span style="font-size:20px\;"><span style="font-family:times new roman\;"><span style="color:#000000\;">news outlets such as PBS\, FOX\, Inc.\, NBC\, TIME\, and Forbes\, sold more</span></span></span></p>\n\n<p style="margin: 0px\; font-stretch: normal\; font-size: 30px\; line-height: normal\; font-family: Helvetica\; color: rgb(255\, 255\, 255)\;"><span style="font-size:20px\;"><span style="font-family:times new roman\;"><span style="color:#000000\;">than 40\,000 copies worldwide as a thought leadership author and</span></span></span></p>\n\n<p style="margin: 0px\; font-stretch: normal\; font-size: 30px\; line-height: normal\; font-family: Helvetica\; color: rgb(255\, 255\, 255)\;"><span style="font-size:20px\;"><span style="font-family:times new roman\;"><span style="color:#000000\;">has TED Talks with millions of views. All of her success comes down to</span></span></span></p>\n\n<p style="margin: 0px\; font-stretch: normal\; font-size: 30px\; line-height: normal\; font-family: Helvetica\; color: rgb(255\, 255\, 255)\;"><span style="font-size:20px\;"><span style="font-family:times new roman\;"><span style="color:#000000\;">one thing: her passion about belonging\, courageous\, compassionate</span></span></span></p>\n\n<p style="margin: 0px\; font-stretch: normal\; font-size: 30px\; line-height: normal\; font-family: Helvetica\; color: rgb(255\, 255\, 255)\;"><span style="font-size:12px\;"><span style="color:#000000\;"><span style="font-size:20px\;"><span style="font-family:times new roman\;">leadership and the urge to pass it along.<br />\n<br />\nwww.kristenhadeed.com</span></span></span></span></p>\n
LOCATION:414 E. Clark St.\, Vermillion SD 57069 Courtroom at the Law School
UID:e.2277.25564
SEQUENCE:3
DTSTAMP:20260425T154205Z
URL:https://chamber.livevermillion.com/events/details/igniting-the-spark-within-you-with-kristen-hadeed-25564
END:VEVENT

END:VCALENDAR
