BEGIN:VCALENDAR
VERSION:2.0
PRODID:-//ChamberMaster//Event Calendar 2.0//EN
METHOD:PUBLISH
X-PUBLISHED-TTL:P3D
REFRESH-INTERVAL:P3D
CALSCALE:GREGORIAN
BEGIN:VEVENT
DTSTART:20250314T220000Z
DTEND:20250315T010000Z
X-MICROSOFT-CDO-ALLDAYEVENT:FALSE
SUMMARY:Irish Red Release & Pop Ups!
DESCRIPTION:Celebrate St. Patrick's Day at the brewery! Our Crimson & Clover Irish Red will make it's return.\n\nMulberry Pies Wood-Fired Pizza will be set up at 5:30 PM until sold out. Saldare Permanent Jewelry will have St. Patrick's Day & South Dakota themed charms for their pop up from 5 - 8 PM and Hello Ruby Truck will be on the patio from 5 - 8 PM!
X-ALT-DESC;FMTTYPE=text/html:<div class="xdj266r x11i5rnm xat24cr x1mh8g0r x1vvkbs" style="margin: 0px\; overflow-wrap: break-word\; font-family: system-ui\, -apple-system\, &quot\;system-ui&quot\;\, &quot\;.SFNSText-Regular&quot\;\, sans-serif\; color: rgb(8\, 8\, 9)\; font-size: 15px\;">Celebrate St. Patrick&#39\;s Day at the brewery! Our Crimson &amp\; Clover Irish Red will make it&#39\;s return.</div>\n\n<div class="x11i5rnm xat24cr x1mh8g0r x1vvkbs xtlvy1s" style="margin: 0.5em 0px 0px\; overflow-wrap: break-word\; font-family: system-ui\, -apple-system\, &quot\;system-ui&quot\;\, &quot\;.SFNSText-Regular&quot\;\, sans-serif\; color: rgb(8\, 8\, 9)\; font-size: 15px\;">Mulberry Pies Wood-Fired Pizza will be set up at 5:30 PM until sold out. Saldare Permanent Jewelry will have St. Patrick&#39\;s Day &amp\; South Dakota themed charms for their pop up from 5 - 8 PM and Hello Ruby Truck will be on the patio from 5 - 8 PM!</div>\n
LOCATION:XIX Brewing 113 W Main Vermillion
UID:e.2277.27880
SEQUENCE:3
DTSTAMP:20260426T025518Z
URL:https://chamber.livevermillion.com/events/details/irish-red-release-pop-ups-27880
END:VEVENT

END:VCALENDAR
