BEGIN:VCALENDAR
VERSION:2.0
PRODID:-//ChamberMaster//Event Calendar 2.0//EN
METHOD:PUBLISH
X-PUBLISHED-TTL:P3D
REFRESH-INTERVAL:P3D
CALSCALE:GREGORIAN
BEGIN:VEVENT
DTSTART:20230418T190000Z
DTEND:20230418T200000Z
X-MICROSOFT-CDO-ALLDAYEVENT:FALSE
SUMMARY:"It's your Ship: Preparing Yourself For Future Success"
DESCRIPTION:Beacom School of Business presents: First Year Experience\n\n\n\nMichael Abrashoff\n\nIt's your Ship: Preparing Yourself For Future Success\nAbout Michael Abrashoff:\n\nMike Abrashoff\, former Navy\n\ncaptain\, was selected to be\n\nCommander of USS Benfold\, being\n\nthe most junior commanding officer in\n\nthe Pacific fleet. His destroyer was known to\n\nbe one of the worst in the fleet\, plagued by poor\n\nleadership\, low morale\, and the highest turnover\n\nrate of all. Within 12 months Abrashoff managed to\n\nchange everything around making the USS Benfold the\n\n#1 ranked ship in performance. How did he do it? Mike\n\nfocused on replacing command and control leadership with\n\ncommitment and cohesion. Ever since he has worked with\n\nover 1\,200 organizations in helping shape and recreate\n\ntheir leadership initiatives\, from universities to non-profits\,\n\nstartups to Fortune 500s\, hospitality to tech\, and much\n\nmore. Mike outlines these experiences and many other\n\ntransformational leadership lessons he has gathered and\n\napplied throughout the years in his speech as well as in his\n\nbooks It's Your Ship\, It's Our Ship and Get Your Ship Together\;\n\nhits that made him a NY Times Best Selling Author.
X-ALT-DESC;FMTTYPE=text/html:<span style="font-size:20px\;"><span style="font-family:times new roman\;"><span style="color:#000000\;"><u>Beacom School of Business presents: First Year Experience</u><br />\n<br />\nMichael Abrashoff<br />\n<em>It&#39\;s your Ship: Preparing Yourself For Future Success</em></span></span></span>\n<p style="margin: 0px\; font-stretch: normal\; font-size: 56px\; line-height: normal\; font-family: Helvetica\;"><strong><span style="font-size:20px\;"><span style="font-family:times new roman\;"><span style="color:#000000\;"><span style="font-stretch: normal\; line-height: normal\;"><i>About&nbsp\;</i></span><i>Michael&nbsp\;Abrashoff:</i></span></span></span></strong></p>\n\n<p style="margin: 0px\; font-stretch: normal\; font-size: 30px\; line-height: normal\; font-family: Helvetica\; color: rgb(255\, 255\, 255)\;"><span style="font-size:20px\;"><span style="font-family:times new roman\;"><span style="color:#000000\;"><i>Mike Abrashoff\, former Navy</i></span></span></span></p>\n\n<p style="margin: 0px\; font-stretch: normal\; font-size: 30px\; line-height: normal\; font-family: Helvetica\; color: rgb(255\, 255\, 255)\;"><span style="font-size:20px\;"><span style="font-family:times new roman\;"><span style="color:#000000\;"><i>captain\, was selected to be</i></span></span></span></p>\n\n<p style="margin: 0px\; font-stretch: normal\; font-size: 30px\; line-height: normal\; font-family: Helvetica\; color: rgb(255\, 255\, 255)\;"><span style="font-size:20px\;"><span style="font-family:times new roman\;"><span style="color:#000000\;"><i>Commander of USS Benfold\, being</i></span></span></span></p>\n\n<p style="margin: 0px\; font-stretch: normal\; font-size: 30px\; line-height: normal\; font-family: Helvetica\; color: rgb(255\, 255\, 255)\;"><span style="font-size:20px\;"><span style="font-family:times new roman\;"><span style="color:#000000\;"><i>the most junior commanding officer in</i></span></span></span></p>\n\n<p style="margin: 0px\; font-stretch: normal\; font-size: 30px\; line-height: normal\; font-family: Helvetica\; color: rgb(255\, 255\, 255)\;"><span style="font-size:20px\;"><span style="font-family:times new roman\;"><span style="color:#000000\;"><i>the Pacific fleet. His destroyer was known to</i></span></span></span></p>\n\n<p style="margin: 0px\; font-stretch: normal\; font-size: 30px\; line-height: normal\; font-family: Helvetica\; color: rgb(255\, 255\, 255)\;"><span style="font-size:20px\;"><span style="font-family:times new roman\;"><span style="color:#000000\;"><i>be one of the worst in the fleet\, plagued by poor</i></span></span></span></p>\n\n<p style="margin: 0px\; font-stretch: normal\; font-size: 30px\; line-height: normal\; font-family: Helvetica\; color: rgb(255\, 255\, 255)\;"><span style="font-size:20px\;"><span style="font-family:times new roman\;"><span style="color:#000000\;"><i>leadership\, low morale\, and the highest turnover</i></span></span></span></p>\n\n<p style="margin: 0px\; font-stretch: normal\; font-size: 30px\; line-height: normal\; font-family: Helvetica\; color: rgb(255\, 255\, 255)\;"><span style="font-size:20px\;"><span style="font-family:times new roman\;"><span style="color:#000000\;"><i>rate of all. Within 12 months Abrashoff managed to</i></span></span></span></p>\n\n<p style="margin: 0px\; font-stretch: normal\; font-size: 30px\; line-height: normal\; font-family: Helvetica\; color: rgb(255\, 255\, 255)\;"><span style="font-size:20px\;"><span style="font-family:times new roman\;"><span style="color:#000000\;"><i>change everything around making the USS Benfold the</i></span></span></span></p>\n\n<p style="margin: 0px\; font-stretch: normal\; font-size: 30px\; line-height: normal\; font-family: Helvetica\; color: rgb(255\, 255\, 255)\;"><span style="font-size:20px\;"><span style="font-family:times new roman\;"><span style="color:#000000\;"><i>#1 ranked ship in performance. How did he do it? Mike</i></span></span></span></p>\n\n<p style="margin: 0px\; font-stretch: normal\; font-size: 30px\; line-height: normal\; font-family: Helvetica\; color: rgb(255\, 255\, 255)\;"><span style="font-size:20px\;"><span style="font-family:times new roman\;"><span style="color:#000000\;"><i>focused on replacing command and control leadership with</i></span></span></span></p>\n\n<p style="margin: 0px\; font-stretch: normal\; font-size: 30px\; line-height: normal\; font-family: Helvetica\; color: rgb(255\, 255\, 255)\;"><span style="font-size:20px\;"><span style="font-family:times new roman\;"><span style="color:#000000\;"><i>commitment and cohesion. Ever since he has worked with</i></span></span></span></p>\n\n<p style="margin: 0px\; font-stretch: normal\; font-size: 30px\; line-height: normal\; font-family: Helvetica\; color: rgb(255\, 255\, 255)\;"><span style="font-size:20px\;"><span style="font-family:times new roman\;"><span style="color:#000000\;"><i>over 1\,200 organizations in helping shape and recreate</i></span></span></span></p>\n\n<p style="margin: 0px\; font-stretch: normal\; font-size: 30px\; line-height: normal\; font-family: Helvetica\; color: rgb(255\, 255\, 255)\;"><span style="font-size:20px\;"><span style="font-family:times new roman\;"><span style="color:#000000\;"><i>their leadership initiatives\, from universities to non-profits\,</i></span></span></span></p>\n\n<p style="margin: 0px\; font-stretch: normal\; font-size: 30px\; line-height: normal\; font-family: Helvetica\; color: rgb(255\, 255\, 255)\;"><span style="font-size:20px\;"><span style="font-family:times new roman\;"><span style="color:#000000\;"><i>startups to Fortune 500s\, hospitality to tech\, and much</i></span></span></span></p>\n\n<p style="margin: 0px\; font-stretch: normal\; font-size: 30px\; line-height: normal\; font-family: Helvetica\; color: rgb(255\, 255\, 255)\;"><span style="font-size:20px\;"><span style="font-family:times new roman\;"><span style="color:#000000\;"><i>more. Mike outlines these experiences and many other</i></span></span></span></p>\n\n<p style="margin: 0px\; font-stretch: normal\; font-size: 30px\; line-height: normal\; font-family: Helvetica\; color: rgb(255\, 255\, 255)\;"><span style="font-size:20px\;"><span style="font-family:times new roman\;"><span style="color:#000000\;"><i>transformational leadership lessons he has gathered and</i></span></span></span></p>\n\n<p style="margin: 0px\; font-stretch: normal\; font-size: 30px\; line-height: normal\; font-family: Helvetica\; color: rgb(255\, 255\, 255)\;"><span style="font-size:20px\;"><span style="font-family:times new roman\;"><span style="color:#000000\;"><i>applied throughout the years in his speech as well as in his</i></span></span></span></p>\n\n<p style="margin: 0px\; font-stretch: normal\; font-size: 30px\; line-height: normal\; font-family: Helvetica\; color: rgb(255\, 255\, 255)\;"><span style="font-size:20px\;"><span style="font-family:times new roman\;"><span style="color:#000000\;"><i>books It&rsquo\;s Your Ship\, It&rsquo\;s Our Ship and Get Your Ship Together\;</i></span></span></span></p>\n\n<p style="margin: 0px\; font-stretch: normal\; font-size: 30px\; line-height: normal\; font-family: Helvetica\; color: rgb(255\, 255\, 255)\;"><span style="font-size:20px\;"><span style="font-family:times new roman\;"><span style="color:#000000\;"><i>hits that made him a NY Times Best Selling Author.</i></span></span></span></p>\n
LOCATION:414 E. Clark St.\, Vermillion SD 57069 Farber Hall (Old Main)
UID:e.2277.25565
SEQUENCE:3
DTSTAMP:20260425T154048Z
URL:https://chamber.livevermillion.com/events/details/it-s-your-ship-preparing-yourself-for-future-success-25565
END:VEVENT

END:VCALENDAR
