BEGIN:VCALENDAR
VERSION:2.0
PRODID:-//ChamberMaster//Event Calendar 2.0//EN
METHOD:PUBLISH
X-PUBLISHED-TTL:P3D
REFRESH-INTERVAL:P3D
CALSCALE:GREGORIAN
BEGIN:VEVENT
DTSTART:20241123T033000Z
DTEND:20241123T080000Z
X-MICROSOFT-CDO-ALLDAYEVENT:FALSE
SUMMARY:Judd Hoos & Denham at Docs
DESCRIPTION:Doc's Bar hosts live music featuring Judd Hoos & Denham.
X-ALT-DESC;FMTTYPE=text/html:Doc&#39\;s Bar hosts live music featuring Judd Hoos &amp\; Denham.
LOCATION:Historic Downtown Vermillion\, 9 West Main
UID:e.2277.27573
SEQUENCE:3
DTSTAMP:20260426T031740Z
URL:https://chamber.livevermillion.com/events/details/judd-hoos-denham-at-docs-27573
END:VEVENT

END:VCALENDAR
