BEGIN:VCALENDAR
VERSION:2.0
PRODID:-//ChamberMaster//Event Calendar 2.0//EN
METHOD:PUBLISH
X-PUBLISHED-TTL:P3D
REFRESH-INTERVAL:P3D
CALSCALE:GREGORIAN
BEGIN:VEVENT
DTSTART:20221027T210000Z
DTEND:20221027T230000Z
X-MICROSOFT-CDO-ALLDAYEVENT:FALSE
SUMMARY:Keep your Pets Safe and Sound Micro Chip Event
DESCRIPTION:Heartland Humane Society is hosting a Microchip Clinic with Sarah Schulte from Farmer's Insurance. Bring your household pets (kenneled cats and leashed dogs) to the Downtown Plaza and get your pets micro chipped and registered. We are asking for a $10 donation to the cost of the chip~
X-ALT-DESC;FMTTYPE=text/html:Heartland Humane Society is hosting a Microchip Clinic with Sarah Schulte from Farmer&#39\;s Insurance. Bring your household pets (kenneled cats and leashed dogs) to the Downtown Plaza and get your pets micro chipped and registered. We are asking for a $10 donation to the cost of the chip~
LOCATION:The Plaza\, Downtown Vermillion
UID:e.2277.24605
SEQUENCE:3
DTSTAMP:20260425T040639Z
URL:https://chamber.livevermillion.com/events/details/keep-your-pets-safe-and-sound-micro-chip-event-24605
END:VEVENT

END:VCALENDAR
