BEGIN:VCALENDAR
VERSION:2.0
PRODID:-//ChamberMaster//Event Calendar 2.0//EN
METHOD:PUBLISH
X-PUBLISHED-TTL:P3D
REFRESH-INTERVAL:P3D
CALSCALE:GREGORIAN
BEGIN:VEVENT
DTSTART:20220312T160000Z
DTEND:20220313T210000Z
X-MICROSOFT-CDO-ALLDAYEVENT:FALSE
SUMMARY:LCHBA Home Show
DESCRIPTION:The Lewis & Clark Home Builders Association's 17th Annual Home Show is coming to Yankton again\, March 12th & 13th\, 2022! Plan on stopping out   we will be located at the Archery Center. Vendors include general contractors\, lawn and garden\, home d cor\, deck and patio furniture\, plumbing and electrical\, kitchen and bath\, roofing contractors and more! Check out the LCHBA booth to purchase a ticket in our archery raffle featuring a Bear Legit RTH compound bow. There will be valuable hourly drawings for the public all day long! Join us
X-ALT-DESC;FMTTYPE=text/html:<span style="color:rgb(5\, 5\, 5)\; font-family:segoe ui historic\,segoe ui\,helvetica\,arial\,sans-serif\; font-size:15.9375px">The Lewis &amp\; Clark Home Builders Association&rsquo\;s 17th Annual Home Show is coming to Yankton again\, March 12th &amp\; 13th\, 2022! Plan on stopping out &ndash\; we will be located at the Archery Center. Vendors include general contractors\, lawn and garden\, home&nbsp\;</span><span style="color:rgb(5\, 5\, 5)\; font-family:segoe ui historic\,segoe ui\,helvetica\,arial\,sans-serif\; font-size:15.9375px">d&eacute\;cor</span><span style="color:rgb(5\, 5\, 5)\; font-family:segoe ui historic\,segoe ui\,helvetica\,arial\,sans-serif\; font-size:15.9375px">\, deck and patio&nbsp\;</span><span style="color:rgb(5\, 5\, 5)\; font-family:segoe ui historic\,segoe ui\,helvetica\,arial\,sans-serif\; font-size:15.9375px">furniture</span><span style="color:rgb(5\, 5\, 5)\; font-family:segoe ui historic\,segoe ui\,helvetica\,arial\,sans-serif\; font-size:15.9375px">\, plumbing and electrical\, kitchen and bath\, roofing contractors and more! Check out the LCHBA booth to purchase a ticket in our archery raffle featuring a Bear Legit RTH compound bow. There will be valuable hourly drawings for the public all day long! Join us</span>
LOCATION:NFAA Easton Archery Complex 800 Archery Lane\, Yankton SD
UID:e.2277.24365
SEQUENCE:3
DTSTAMP:20260424T173913Z
URL:https://chamber.livevermillion.com/events/details/lchba-home-show-24365
END:VEVENT

END:VCALENDAR
