BEGIN:VCALENDAR
VERSION:2.0
PRODID:-//ChamberMaster//Event Calendar 2.0//EN
METHOD:PUBLISH
X-PUBLISHED-TTL:P3D
REFRESH-INTERVAL:P3D
CALSCALE:GREGORIAN
BEGIN:VEVENT
DTSTART:20241210T173000Z
DTEND:20241210T190000Z
X-MICROSOFT-CDO-ALLDAYEVENT:FALSE
SUMMARY:Learning Lunch: Legislative Preview with David Owen
DESCRIPTION:The Vermillion Area Chamber & Development Company invites you to a Learning Lunch on Tuesday\, December 10th\, 2024. Hear from South Dakota Chamber President\, David Owen\, as he offers a preview of the 2025 Legislative Session. \n\n\n\n11:30am - Doors open\n\n12:00pm - Program Begins
X-ALT-DESC;FMTTYPE=text/html:<span style="font-size:18px\;"><span style="font-family:arial\;"><span style="color: rgb(0\, 0\, 0)\;">The Vermillion Area Chamber &amp\; Development Company invites you to a Learning Lunch on <b>Tuesday\, December 10th\, 2024.&nbsp\;</b>Hear from South Dakota Chamber President\, David Owen\, as he offers a preview of the 2025 Legislative Session.&nbsp\;</span></span></span><br style="color: rgb(5\, 5\, 5)\; font-family: &quot\;Segoe UI Historic&quot\;\, &quot\;Segoe UI&quot\;\, Helvetica\, Arial\, sans-serif\; font-size: 15px\; background-color: rgb(255\, 255\, 255)\;" />\n<br />\n<span style="font-size:18px\;"><span style="background:white\;"><span style="color:#333333\;"><span style="font-family:century gothic\,sans-serif\;">11:30am - Doors open<br />\n12:00pm - Program Begins&nbsp\;</span></span></span></span><br />\n<br />\n<br />\n&nbsp\;
LOCATION:Dakota Center/Pizza Ranch 912 N. Dakota
UID:e.2277.27455
SEQUENCE:3
DTSTAMP:20260426T030814Z
URL:https://chamber.livevermillion.com/events/details/learning-lunch-legislative-preview-with-david-owen-27455
END:VEVENT

END:VCALENDAR
