BEGIN:VCALENDAR
VERSION:2.0
PRODID:-//ChamberMaster//Event Calendar 2.0//EN
METHOD:PUBLISH
X-PUBLISHED-TTL:P3D
REFRESH-INTERVAL:P3D
CALSCALE:GREGORIAN
BEGIN:VEVENT
DTSTART:20230419T170000Z
DTEND:20230419T180000Z
X-MICROSOFT-CDO-ALLDAYEVENT:FALSE
SUMMARY:Lunch and Learn: Going Out Green
DESCRIPTION:Anne Dilenschneider\, Scholar from the South Dakota Humanities Speaker Bureau will be presenting on the topic of Natural Burial in South Dakota. Natural Burial is when remains are placed directly into the earth\, allowing the body to decompose naturally. The process has minimum impact on the environment as it does not use embalming fluid\, a casket\, or a burial vault. To register for the zoom link please visit: bit.ly/VPLGoingOutGreen This program is brought to you by South Dakota Humanities Council
X-ALT-DESC;FMTTYPE=text/html:Anne Dilenschneider\, Scholar from the South Dakota Humanities Speaker Bureau will be presenting on the topic of Natural Burial in South Dakota. Natural Burial is when remains are placed directly into the earth\, allowing the body to decompose naturally. The process has minimum impact on the environment as it does not use embalming fluid\, a casket\, or a burial vault. To register for the zoom link please visit: bit.ly/VPLGoingOutGreen This program is brought to you by South Dakota Humanities Council
LOCATION:Vermillion Public Library Kozak Room/ Zoom
UID:e.2277.25548
SEQUENCE:3
DTSTAMP:20260425T155306Z
URL:https://chamber.livevermillion.com/events/details/lunch-and-learn-going-out-green-25548
END:VEVENT

END:VCALENDAR
