BEGIN:VCALENDAR
VERSION:2.0
PRODID:-//ChamberMaster//Event Calendar 2.0//EN
METHOD:PUBLISH
X-PUBLISHED-TTL:P3D
REFRESH-INTERVAL:P3D
CALSCALE:GREGORIAN
BEGIN:VEVENT
DTSTART:20220708T170000Z
DTEND:20220708T180000Z
X-MICROSOFT-CDO-ALLDAYEVENT:FALSE
SUMMARY:Lunch & Learn: No Justice for Agnes
DESCRIPTION:The Vermillion Public Library will be hosting Wayne Fanebust\, a South Dakota Humanities Scholar and author. Fanebust will be here to talk about the events surrounding his 2020 novel\, "No Justice for Agnes: The strange death of Agnes Polreis and the sensational South Dakota murder trials of Emma Kaufmann" Agnes Polries was a 16-year-old immigrant girl and live-in servant for Emma Kaufmann. Kaufmann was arrested and put on trial twice but was never convicted of murder. Join us at the library Friday\, July 8th at 12:00 pm noon to find out more about these events. Wayne Fanebust's book is available for check out at the library. \n\nRegister online at bit.ly/vplagnes to get the Zoom link and let us know if you plan on attending in person or virtually! This program will be held in person at the Vermillion Public Library\, in the Kozak Room. The program is sponsored in part by the South Dakota Humanities Council. \n\nFor questions email vplstaff@vermillionpubliclibrary.org or call 605-677-7060. The Edith B. Siegrist Vermillion Public Library is located at 18 Church Street\, Vermillion\, SD 57069. We are open Monday through Thursday\, 8 am to 9 pm\, Fridays 8 am to 6 pm\, Saturdays 10 am   5 pm\, and Sundays 1 pm to 5 pm.
X-ALT-DESC;FMTTYPE=text/html:<span style="font-size:12.0pt">The Vermillion Public Library will be hosting Wayne Fanebust\, a South Dakota Humanities Scholar and author. Fanebust will be here to talk about the events surrounding his 2020 novel\, &ldquo\;No Justice for Agnes: The strange death of Agnes Polreis and the sensational South Dakota murder trials of Emma Kaufmann&rdquo\; Agnes Polries was a 16-year-old immigrant girl and live-in servant for Emma Kaufmann. Kaufmann was arrested and put on trial twice but was never convicted of murder. Join us at the library Friday\, July 8th at 12:00 pm noon to find out more about these events. Wayne Fanebust&rsquo\;s book is available for check out at the library. </span><br />\n<span style="font-size:12.0pt">Register online at <strong>bit.ly/vplagnes </strong>to get the Zoom link and let us know if you plan on attending in person or virtually! This program will be held in person at the Vermillion Public Library\, in the Kozak Room. The program is sponsored in part by the South Dakota Humanities Council. </span><br />\n<span style="font-size:12.0pt">For questions email </span><a href="mailto:vplstaff@vermillionpubliclibrary.org"><span style="font-size:12.0pt">vplstaff@vermillionpubliclibrary.org</span></a><span style="font-size:12.0pt"> or call 605-677-7060. The Edith B. Siegrist Vermillion Public Library is located at 18 Church Street\, Vermillion\, SD 57069. We are open Monday through Thursday\, 8 am to 9 pm\, Fridays 8 am to 6 pm\, Saturdays 10 am &ndash\; 5 pm\, and Sundays 1 pm to 5 pm. </span>
LOCATION:Edith B. Siegrist Vermillion Public Library
UID:e.2277.24364
SEQUENCE:3
DTSTAMP:20260425T001851Z
URL:https://chamber.livevermillion.com/events/details/lunch-learn-no-justice-for-agnes-24364
END:VEVENT

END:VCALENDAR
