BEGIN:VCALENDAR
VERSION:2.0
PRODID:-//ChamberMaster//Event Calendar 2.0//EN
METHOD:PUBLISH
X-PUBLISHED-TTL:P3D
REFRESH-INTERVAL:P3D
CALSCALE:GREGORIAN
BEGIN:VEVENT
DTSTART:20250326T170000Z
DTEND:20250326T180000Z
X-MICROSOFT-CDO-ALLDAYEVENT:FALSE
SUMMARY:Lunch & Learn: The Rise of Women in The Medical Profession with Dr. Marilyn Aronson
DESCRIPTION:Join us for a Lunch & Learn with Dr. Marilyn Aronson of the South Dakota Humanities Council. This presentation traces the progress of women in the medical profession\, beginning with Dr. Elizabeth Blackwell\, America's first trained female physician. The theme outlines women's progress\, including the tremendous impact of 10 female physician pioneers. This is a free public event with light refreshments.\n\nSponsored by the South Dakota Humanities Council & the Vermillion Public Library.
X-ALT-DESC;FMTTYPE=text/html:<p style="color: rgb(0\, 0\, 0)\; font-family: Times\; font-size: medium\;">Join us for a Lunch &amp\; Learn with Dr. Marilyn Aronson of the South Dakota Humanities Council. This presentation traces the progress of women in the medical profession\, beginning with Dr. Elizabeth Blackwell\, America&rsquo\;s first trained female physician. The theme outlines women&rsquo\;s progress\, including the tremendous impact of 10 female physician pioneers. This is a free public event with light refreshments.</p>\n\n<p style="color: rgb(0\, 0\, 0)\; font-family: Times\; font-size: medium\;">Sponsored by the South Dakota Humanities Council &amp\; the Vermillion Public Library.</p>\n
LOCATION:Edith B. Siegrist Vermillion Public Library 18 Church Street\, Vermillion\, SD 57069
UID:e.2277.27879
SEQUENCE:3
DTSTAMP:20260426T000939Z
URL:https://chamber.livevermillion.com/events/details/lunch-learn-the-rise-of-women-in-the-medical-profession-with-dr-marilyn-aronson-27879
END:VEVENT

END:VCALENDAR
