BEGIN:VCALENDAR
VERSION:2.0
PRODID:-//ChamberMaster//Event Calendar 2.0//EN
METHOD:PUBLISH
X-PUBLISHED-TTL:P3D
REFRESH-INTERVAL:P3D
CALSCALE:GREGORIAN
BEGIN:VEVENT
DTSTART:20230627T220000Z
DTEND:20230627T233000Z
X-MICROSOFT-CDO-ALLDAYEVENT:FALSE
SUMMARY:Main Street Center Ice Cream Social
DESCRIPTION:Join Main Street Center on Tuesday\, June 27th for an Ice Cream Social! For a free will donation\, get taverns\, chips\, ice cream\, pies\, and beverages!
X-ALT-DESC;FMTTYPE=text/html:Join Main Street Center on Tuesday\, June 27th for an Ice Cream Social! For a free will donation\, get taverns\, chips\, ice cream\, pies\, and beverages!&nbsp\;
LOCATION:320 West Main Street\, Vermillion\, SD
UID:e.2277.25763
SEQUENCE:3
DTSTAMP:20260425T192744Z
URL:https://chamber.livevermillion.com/events/details/main-street-center-ice-cream-social-25763
END:VEVENT

END:VCALENDAR
